﻿BEGIN:VCALENDAR
VERSION:2.0
PRODID:-//&#039;t Skitteljacht - ECPv6.3.3.1//NONSGML v1.0//EN
CALSCALE:GREGORIAN
METHOD:PUBLISH
X-WR-CALNAME:&#039;t Skitteljacht
X-ORIGINAL-URL:https://www.skitteljacht.nl
X-WR-CALDESC:Evenementen voor &#039;t Skitteljacht
REFRESH-INTERVAL;VALUE=DURATION:PT1H
X-Robots-Tag:noindex
X-PUBLISHED-TTL:PT1H
BEGIN:VTIMEZONE
TZID:Europe/Amsterdam
BEGIN:DAYLIGHT
TZOFFSETFROM:+0100
TZOFFSETTO:+0200
TZNAME:CEST
DTSTART:20190331T010000
END:DAYLIGHT
BEGIN:STANDARD
TZOFFSETFROM:+0200
TZOFFSETTO:+0100
TZNAME:CET
DTSTART:20191027T010000
END:STANDARD
BEGIN:DAYLIGHT
TZOFFSETFROM:+0100
TZOFFSETTO:+0200
TZNAME:CEST
DTSTART:20200329T010000
END:DAYLIGHT
BEGIN:STANDARD
TZOFFSETFROM:+0200
TZOFFSETTO:+0100
TZNAME:CET
DTSTART:20201025T010000
END:STANDARD
END:VTIMEZONE
BEGIN:VEVENT
DTSTART;VALUE=DATE:20200510
DTEND;VALUE=DATE:20200511
DTSTAMP:20260420T173513
CREATED:20200114T123639Z
LAST-MODIFIED:20200114T123639Z
UID:9072-1589068800-1589155199@www.skitteljacht.nl
SUMMARY:Moederdag
DESCRIPTION:
URL:https://www.skitteljacht.nl/event/moederdag/
END:VEVENT
BEGIN:VEVENT
DTSTART;VALUE=DATE:20200505
DTEND;VALUE=DATE:20200506
DTSTAMP:20260420T173513
CREATED:20200114T123536Z
LAST-MODIFIED:20200114T123536Z
UID:9069-1588636800-1588723199@www.skitteljacht.nl
SUMMARY:Bevrijdingsdag
DESCRIPTION:
URL:https://www.skitteljacht.nl/event/bevrijdingsdag/
END:VEVENT
BEGIN:VEVENT
DTSTART;VALUE=DATE:20200427
DTEND;VALUE=DATE:20200428
DTSTAMP:20260420T173513
CREATED:20200114T123018Z
LAST-MODIFIED:20200114T123018Z
UID:9065-1587945600-1588031999@www.skitteljacht.nl
SUMMARY:Koningsdag
DESCRIPTION:
URL:https://www.skitteljacht.nl/event/koningsdag/
END:VEVENT
BEGIN:VEVENT
DTSTART;VALUE=DATE:20200425
DTEND;VALUE=DATE:20200506
DTSTAMP:20260420T173513
CREATED:20200114T122944Z
LAST-MODIFIED:20200114T122944Z
UID:9063-1587772800-1588723199@www.skitteljacht.nl
SUMMARY:Mei vakantie !
DESCRIPTION:
URL:https://www.skitteljacht.nl/event/mei-vakantie/
END:VEVENT
BEGIN:VEVENT
DTSTART;VALUE=DATE:20200424
DTEND;VALUE=DATE:20200425
DTSTAMP:20260420T173513
CREATED:20200114T122831Z
LAST-MODIFIED:20200114T122831Z
UID:9061-1587686400-1587772799@www.skitteljacht.nl
SUMMARY:Studiedag; alle kinderen vrij
DESCRIPTION:
URL:https://www.skitteljacht.nl/event/studiedag-alle-kinderen-vrij/
END:VEVENT
BEGIN:VEVENT
DTSTART;TZID=Europe/Amsterdam:20200423T090000
DTEND;TZID=Europe/Amsterdam:20200423T110000
DTSTAMP:20260420T173513
CREATED:20200114T122731Z
LAST-MODIFIED:20200114T122731Z
UID:9059-1587632400-1587639600@www.skitteljacht.nl
SUMMARY:Peuter inloop
DESCRIPTION:
URL:https://www.skitteljacht.nl/event/peuter-inloop-4/
END:VEVENT
BEGIN:VEVENT
DTSTART;VALUE=DATE:20200413
DTEND;VALUE=DATE:20200414
DTSTAMP:20260420T173513
CREATED:20200114T122417Z
LAST-MODIFIED:20200114T122450Z
UID:9054-1586736000-1586822399@www.skitteljacht.nl
SUMMARY:2e Paasdag
DESCRIPTION:
URL:https://www.skitteljacht.nl/event/paas-ontbijt/
END:VEVENT
BEGIN:VEVENT
DTSTART;VALUE=DATE:20200412
DTEND;VALUE=DATE:20200413
DTSTAMP:20260420T173513
CREATED:20200114T124331Z
LAST-MODIFIED:20200114T124331Z
UID:9084-1586649600-1586735999@www.skitteljacht.nl
SUMMARY:1e Paasdag
DESCRIPTION:
URL:https://www.skitteljacht.nl/event/1e-paasdag-2/
END:VEVENT
BEGIN:VEVENT
DTSTART;TZID=Europe/Amsterdam:20200410T083000
DTEND;TZID=Europe/Amsterdam:20200410T093000
DTSTAMP:20260420T173513
CREATED:20200114T122615Z
LAST-MODIFIED:20200114T122615Z
UID:9057-1586507400-1586511000@www.skitteljacht.nl
SUMMARY:Paas ontbijt
DESCRIPTION:
URL:https://www.skitteljacht.nl/event/paas-ontbijt-2/
END:VEVENT
BEGIN:VEVENT
DTSTART;TZID=Europe/Amsterdam:20200326T090000
DTEND;TZID=Europe/Amsterdam:20200326T110000
DTSTAMP:20260420T173513
CREATED:20200114T122306Z
LAST-MODIFIED:20200114T122306Z
UID:9052-1585213200-1585220400@www.skitteljacht.nl
SUMMARY:Peuter inloop
DESCRIPTION:
URL:https://www.skitteljacht.nl/event/peuter-inloop-3/
END:VEVENT
BEGIN:VEVENT
DTSTART;TZID=Europe/Amsterdam:20200317T190000
DTEND;TZID=Europe/Amsterdam:20200317T210000
DTSTAMP:20260420T173513
CREATED:20200114T122147Z
LAST-MODIFIED:20200114T122147Z
UID:9050-1584471600-1584478800@www.skitteljacht.nl
SUMMARY:Open Avond
DESCRIPTION:
URL:https://www.skitteljacht.nl/event/open-avond-3/
END:VEVENT
BEGIN:VEVENT
DTSTART;VALUE=DATE:20200215
DTEND;VALUE=DATE:20200224
DTSTAMP:20260420T173513
CREATED:20200114T121854Z
LAST-MODIFIED:20200114T121854Z
UID:9048-1581724800-1582502399@www.skitteljacht.nl
SUMMARY:Voorjaarsvakantie
DESCRIPTION:
URL:https://www.skitteljacht.nl/event/voorjaarsvakantie-3/
END:VEVENT
BEGIN:VEVENT
DTSTART;TZID=Europe/Amsterdam:20200206T090000
DTEND;TZID=Europe/Amsterdam:20200206T110000
DTSTAMP:20260420T173513
CREATED:20200114T121738Z
LAST-MODIFIED:20200114T121738Z
UID:9046-1580979600-1580986800@www.skitteljacht.nl
SUMMARY:Peuter Inloop
DESCRIPTION:
URL:https://www.skitteljacht.nl/event/peuter-inloop-2/
END:VEVENT
BEGIN:VEVENT
DTSTART;VALUE=DATE:20200205
DTEND;VALUE=DATE:20200206
DTSTAMP:20260420T173513
CREATED:20200114T121534Z
LAST-MODIFIED:20200114T121534Z
UID:9044-1580860800-1580947199@www.skitteljacht.nl
SUMMARY:Rapport mee !
DESCRIPTION:
URL:https://www.skitteljacht.nl/event/rapport-mee-3/
END:VEVENT
BEGIN:VEVENT
DTSTART;TZID=Europe/Amsterdam:20200121T090000
DTEND;TZID=Europe/Amsterdam:20200121T110000
DTSTAMP:20260420T173513
CREATED:20200114T114649Z
LAST-MODIFIED:20200114T114649Z
UID:9042-1579597200-1579604400@www.skitteljacht.nl
SUMMARY:Peuter inloop
DESCRIPTION:
URL:https://www.skitteljacht.nl/event/peuter-inloop/
END:VEVENT
BEGIN:VEVENT
DTSTART;TZID=Europe/Amsterdam:20190713T080000
DTEND;TZID=Europe/Amsterdam:20190825T170000
DTSTAMP:20260420T173513
CREATED:20180907T081115Z
LAST-MODIFIED:20180907T081115Z
UID:4446-1563004800-1566752400@www.skitteljacht.nl
SUMMARY:Zomervakantie
DESCRIPTION:
URL:https://www.skitteljacht.nl/event/zomervakantie/
END:VEVENT
BEGIN:VEVENT
DTSTART;VALUE=DATE:20190712
DTEND;VALUE=DATE:20190713
DTSTAMP:20260420T173513
CREATED:20180907T080303Z
LAST-MODIFIED:20180907T080303Z
UID:4434-1562889600-1562975999@www.skitteljacht.nl
SUMMARY:Laatste lesdag
DESCRIPTION:
URL:https://www.skitteljacht.nl/event/laatste-lesdag/
END:VEVENT
BEGIN:VEVENT
DTSTART;TZID=Europe/Amsterdam:20190711T080000
DTEND;TZID=Europe/Amsterdam:20190711T170000
DTSTAMP:20260420T173513
CREATED:20180907T080232Z
LAST-MODIFIED:20180907T080232Z
UID:4432-1562832000-1562864400@www.skitteljacht.nl
SUMMARY:Wisseluur
DESCRIPTION:
URL:https://www.skitteljacht.nl/event/wisseluur-2/
END:VEVENT
BEGIN:VEVENT
DTSTART;VALUE=DATE:20190710
DTEND;VALUE=DATE:20190711
DTSTAMP:20260420T173513
CREATED:20180907T080200Z
LAST-MODIFIED:20180907T080200Z
UID:4430-1562716800-1562803199@www.skitteljacht.nl
SUMMARY:Afscheid groep 8
DESCRIPTION:
URL:https://www.skitteljacht.nl/event/afscheid-groep-8/
END:VEVENT
BEGIN:VEVENT
DTSTART;VALUE=DATE:20190703
DTEND;VALUE=DATE:20190704
DTSTAMP:20260420T173513
CREATED:20180907T080122Z
LAST-MODIFIED:20180907T080122Z
UID:4428-1562112000-1562198399@www.skitteljacht.nl
SUMMARY:Studiedag
DESCRIPTION:
URL:https://www.skitteljacht.nl/event/studiedag-3/
END:VEVENT
BEGIN:VEVENT
DTSTART;TZID=Europe/Amsterdam:20190701T080000
DTEND;TZID=Europe/Amsterdam:20190705T170000
DTSTAMP:20260420T173513
CREATED:20180907T080045Z
LAST-MODIFIED:20180907T080045Z
UID:4426-1561968000-1562346000@www.skitteljacht.nl
SUMMARY:Week 10 minuten gesprekken
DESCRIPTION:
URL:https://www.skitteljacht.nl/event/week-10-minuten-gesprekken-3/
END:VEVENT
BEGIN:VEVENT
DTSTART;VALUE=DATE:20190624
DTEND;VALUE=DATE:20190625
DTSTAMP:20260420T173513
CREATED:20180907T075937Z
LAST-MODIFIED:20180907T075937Z
UID:4422-1561334400-1561420799@www.skitteljacht.nl
SUMMARY:Rapport mee!
DESCRIPTION:
URL:https://www.skitteljacht.nl/event/rapport-mee-2/
END:VEVENT
BEGIN:VEVENT
DTSTART;TZID=Europe/Amsterdam:20190610T080000
DTEND;TZID=Europe/Amsterdam:20190614T170000
DTSTAMP:20260420T173513
CREATED:20190513T094739Z
LAST-MODIFIED:20190513T094739Z
UID:6303-1560153600-1560531600@www.skitteljacht.nl
SUMMARY:Toetsweek groep 1 t/m 7
DESCRIPTION:
URL:https://www.skitteljacht.nl/event/toetsweek-groep-1-t-m-7-2/
END:VEVENT
BEGIN:VEVENT
DTSTART;VALUE=DATE:20190610
DTEND;VALUE=DATE:20190611
DTSTAMP:20260420T173513
CREATED:20180907T080950Z
LAST-MODIFIED:20180907T080950Z
UID:4444-1560124800-1560211199@www.skitteljacht.nl
SUMMARY:2e Pinksterdag
DESCRIPTION:
URL:https://www.skitteljacht.nl/event/2e-pinksterdag/
END:VEVENT
BEGIN:VEVENT
DTSTART;TZID=Europe/Amsterdam:20190603T080000
DTEND;TZID=Europe/Amsterdam:20190607T170000
DTSTAMP:20260420T173513
CREATED:20190513T094644Z
LAST-MODIFIED:20190513T094835Z
UID:6301-1559548800-1559926800@www.skitteljacht.nl
SUMMARY:Toetsweek groep 1 t/m 7
DESCRIPTION:
URL:https://www.skitteljacht.nl/event/toetsweek-groep-1-t-m-7/
END:VEVENT
BEGIN:VEVENT
DTSTART;VALUE=DATE:20190529
DTEND;VALUE=DATE:20190530
DTSTAMP:20260420T173513
CREATED:20180907T075829Z
LAST-MODIFIED:20180907T075829Z
UID:4420-1559088000-1559174399@www.skitteljacht.nl
SUMMARY:Present (studie)dag
DESCRIPTION:
URL:https://www.skitteljacht.nl/event/present-studiedag/
END:VEVENT
BEGIN:VEVENT
DTSTART;TZID=Europe/Amsterdam:20190528T133000
DTEND;TZID=Europe/Amsterdam:20190528T140000
DTSTAMP:20260420T173513
CREATED:20180907T075733Z
LAST-MODIFIED:20180907T075733Z
UID:4417-1559050200-1559052000@www.skitteljacht.nl
SUMMARY:Viering groep 3-4
DESCRIPTION:
URL:https://www.skitteljacht.nl/event/viering-groep-3-4/
END:VEVENT
BEGIN:VEVENT
DTSTART;TZID=Europe/Amsterdam:20190521T090000
DTEND;TZID=Europe/Amsterdam:20190521T100000
DTSTAMP:20260420T173513
CREATED:20180907T075642Z
LAST-MODIFIED:20180907T075642Z
UID:4415-1558429200-1558432800@www.skitteljacht.nl
SUMMARY:Aanschuiftafel Jan Luyken Schellinkhout
DESCRIPTION:
URL:https://www.skitteljacht.nl/event/aanschuiftafel-jan-luyken-schellinkhout/
END:VEVENT
BEGIN:VEVENT
DTSTART;VALUE=DATE:20190521
DTEND;VALUE=DATE:20190522
DTSTAMP:20260420T173513
CREATED:20180907T075548Z
LAST-MODIFIED:20180907T075548Z
UID:4413-1558396800-1558483199@www.skitteljacht.nl
SUMMARY:Start avond4daagse Hoogkarspel
DESCRIPTION:
URL:https://www.skitteljacht.nl/event/start-avond4daagse-hoogkarspel/
END:VEVENT
BEGIN:VEVENT
DTSTART;TZID=Europe/Amsterdam:20190514T090000
DTEND;TZID=Europe/Amsterdam:20190514T100000
DTSTAMP:20260420T173513
CREATED:20180907T075458Z
LAST-MODIFIED:20180907T075458Z
UID:4411-1557824400-1557828000@www.skitteljacht.nl
SUMMARY:Peuterinloop
DESCRIPTION:
URL:https://www.skitteljacht.nl/event/peuterinloop-9/
END:VEVENT
END:VCALENDAR