﻿BEGIN:VCALENDAR
VERSION:2.0
PRODID:-//&#039;t Skitteljacht - ECPv6.3.3.1//NONSGML v1.0//EN
CALSCALE:GREGORIAN
METHOD:PUBLISH
X-WR-CALNAME:&#039;t Skitteljacht
X-ORIGINAL-URL:https://www.skitteljacht.nl
X-WR-CALDESC:Evenementen voor &#039;t Skitteljacht
REFRESH-INTERVAL;VALUE=DURATION:PT1H
X-Robots-Tag:noindex
X-PUBLISHED-TTL:PT1H
BEGIN:VTIMEZONE
TZID:Europe/Amsterdam
BEGIN:DAYLIGHT
TZOFFSETFROM:+0100
TZOFFSETTO:+0200
TZNAME:CEST
DTSTART:20180325T010000
END:DAYLIGHT
BEGIN:STANDARD
TZOFFSETFROM:+0200
TZOFFSETTO:+0100
TZNAME:CET
DTSTART:20181028T010000
END:STANDARD
BEGIN:DAYLIGHT
TZOFFSETFROM:+0100
TZOFFSETTO:+0200
TZNAME:CEST
DTSTART:20190331T010000
END:DAYLIGHT
BEGIN:STANDARD
TZOFFSETFROM:+0200
TZOFFSETTO:+0100
TZNAME:CET
DTSTART:20191027T010000
END:STANDARD
END:VTIMEZONE
BEGIN:VEVENT
DTSTART;TZID=Europe/Amsterdam:20190701T080000
DTEND;TZID=Europe/Amsterdam:20190705T170000
DTSTAMP:20260420T205444
CREATED:20180907T080045Z
LAST-MODIFIED:20180907T080045Z
UID:4426-1561968000-1562346000@www.skitteljacht.nl
SUMMARY:Week 10 minuten gesprekken
DESCRIPTION:
URL:https://www.skitteljacht.nl/event/week-10-minuten-gesprekken-3/
END:VEVENT
BEGIN:VEVENT
DTSTART;VALUE=DATE:20190624
DTEND;VALUE=DATE:20190625
DTSTAMP:20260420T205444
CREATED:20180907T075937Z
LAST-MODIFIED:20180907T075937Z
UID:4422-1561334400-1561420799@www.skitteljacht.nl
SUMMARY:Rapport mee!
DESCRIPTION:
URL:https://www.skitteljacht.nl/event/rapport-mee-2/
END:VEVENT
BEGIN:VEVENT
DTSTART;TZID=Europe/Amsterdam:20190610T080000
DTEND;TZID=Europe/Amsterdam:20190614T170000
DTSTAMP:20260420T205444
CREATED:20190513T094739Z
LAST-MODIFIED:20190513T094739Z
UID:6303-1560153600-1560531600@www.skitteljacht.nl
SUMMARY:Toetsweek groep 1 t/m 7
DESCRIPTION:
URL:https://www.skitteljacht.nl/event/toetsweek-groep-1-t-m-7-2/
END:VEVENT
BEGIN:VEVENT
DTSTART;VALUE=DATE:20190610
DTEND;VALUE=DATE:20190611
DTSTAMP:20260420T205444
CREATED:20180907T080950Z
LAST-MODIFIED:20180907T080950Z
UID:4444-1560124800-1560211199@www.skitteljacht.nl
SUMMARY:2e Pinksterdag
DESCRIPTION:
URL:https://www.skitteljacht.nl/event/2e-pinksterdag/
END:VEVENT
BEGIN:VEVENT
DTSTART;TZID=Europe/Amsterdam:20190603T080000
DTEND;TZID=Europe/Amsterdam:20190607T170000
DTSTAMP:20260420T205444
CREATED:20190513T094644Z
LAST-MODIFIED:20190513T094835Z
UID:6301-1559548800-1559926800@www.skitteljacht.nl
SUMMARY:Toetsweek groep 1 t/m 7
DESCRIPTION:
URL:https://www.skitteljacht.nl/event/toetsweek-groep-1-t-m-7/
END:VEVENT
BEGIN:VEVENT
DTSTART;VALUE=DATE:20190529
DTEND;VALUE=DATE:20190530
DTSTAMP:20260420T205444
CREATED:20180907T075829Z
LAST-MODIFIED:20180907T075829Z
UID:4420-1559088000-1559174399@www.skitteljacht.nl
SUMMARY:Present (studie)dag
DESCRIPTION:
URL:https://www.skitteljacht.nl/event/present-studiedag/
END:VEVENT
BEGIN:VEVENT
DTSTART;TZID=Europe/Amsterdam:20190528T133000
DTEND;TZID=Europe/Amsterdam:20190528T140000
DTSTAMP:20260420T205444
CREATED:20180907T075733Z
LAST-MODIFIED:20180907T075733Z
UID:4417-1559050200-1559052000@www.skitteljacht.nl
SUMMARY:Viering groep 3-4
DESCRIPTION:
URL:https://www.skitteljacht.nl/event/viering-groep-3-4/
END:VEVENT
BEGIN:VEVENT
DTSTART;TZID=Europe/Amsterdam:20190521T090000
DTEND;TZID=Europe/Amsterdam:20190521T100000
DTSTAMP:20260420T205444
CREATED:20180907T075642Z
LAST-MODIFIED:20180907T075642Z
UID:4415-1558429200-1558432800@www.skitteljacht.nl
SUMMARY:Aanschuiftafel Jan Luyken Schellinkhout
DESCRIPTION:
URL:https://www.skitteljacht.nl/event/aanschuiftafel-jan-luyken-schellinkhout/
END:VEVENT
BEGIN:VEVENT
DTSTART;VALUE=DATE:20190521
DTEND;VALUE=DATE:20190522
DTSTAMP:20260420T205444
CREATED:20180907T075548Z
LAST-MODIFIED:20180907T075548Z
UID:4413-1558396800-1558483199@www.skitteljacht.nl
SUMMARY:Start avond4daagse Hoogkarspel
DESCRIPTION:
URL:https://www.skitteljacht.nl/event/start-avond4daagse-hoogkarspel/
END:VEVENT
BEGIN:VEVENT
DTSTART;TZID=Europe/Amsterdam:20190514T090000
DTEND;TZID=Europe/Amsterdam:20190514T100000
DTSTAMP:20260420T205444
CREATED:20180907T075458Z
LAST-MODIFIED:20180907T075458Z
UID:4411-1557824400-1557828000@www.skitteljacht.nl
SUMMARY:Peuterinloop
DESCRIPTION:
URL:https://www.skitteljacht.nl/event/peuterinloop-9/
END:VEVENT
BEGIN:VEVENT
DTSTART;TZID=Europe/Amsterdam:20190420T080000
DTEND;TZID=Europe/Amsterdam:20190505T170000
DTSTAMP:20260420T205444
CREATED:20180907T080908Z
LAST-MODIFIED:20180907T080908Z
UID:4442-1555747200-1557075600@www.skitteljacht.nl
SUMMARY:Meivakantie
DESCRIPTION:
URL:https://www.skitteljacht.nl/event/meivakantie-2/
END:VEVENT
BEGIN:VEVENT
DTSTART;TZID=Europe/Amsterdam:20190419T083000
DTEND;TZID=Europe/Amsterdam:20190419T090000
DTSTAMP:20260420T205444
CREATED:20180907T075052Z
LAST-MODIFIED:20180907T075052Z
UID:4409-1555662600-1555664400@www.skitteljacht.nl
SUMMARY:Paasontbijt
DESCRIPTION:
URL:https://www.skitteljacht.nl/event/paasontbijt-2/
END:VEVENT
BEGIN:VEVENT
DTSTART;TZID=Europe/Amsterdam:20190404T133000
DTEND;TZID=Europe/Amsterdam:20190404T140000
DTSTAMP:20260420T205444
CREATED:20180907T074955Z
LAST-MODIFIED:20180907T074955Z
UID:4407-1554384600-1554386400@www.skitteljacht.nl
SUMMARY:Viering groep 6-7
DESCRIPTION:
URL:https://www.skitteljacht.nl/event/viering-groep-6-7/
END:VEVENT
BEGIN:VEVENT
DTSTART;TZID=Europe/Amsterdam:20190327T090000
DTEND;TZID=Europe/Amsterdam:20190327T100000
DTSTAMP:20260420T205444
CREATED:20180907T074910Z
LAST-MODIFIED:20180907T074910Z
UID:4405-1553677200-1553680800@www.skitteljacht.nl
SUMMARY:Aanschuiftafel Kerspel Hoogkarspel
DESCRIPTION:
URL:https://www.skitteljacht.nl/event/aanschuiftafel-kerspel-hoogkarspel/
END:VEVENT
BEGIN:VEVENT
DTSTART;TZID=Europe/Amsterdam:20190326T090000
DTEND;TZID=Europe/Amsterdam:20190326T100000
DTSTAMP:20260420T205444
CREATED:20180907T074822Z
LAST-MODIFIED:20180907T074822Z
UID:4403-1553590800-1553594400@www.skitteljacht.nl
SUMMARY:Peuterinloop
DESCRIPTION:
URL:https://www.skitteljacht.nl/event/peuterinloop-8/
END:VEVENT
BEGIN:VEVENT
DTSTART;TZID=Europe/Amsterdam:20190319T190000
DTEND;TZID=Europe/Amsterdam:20190319T210000
DTSTAMP:20260420T205444
CREATED:20180907T074731Z
LAST-MODIFIED:20180907T074731Z
UID:4401-1553022000-1553029200@www.skitteljacht.nl
SUMMARY:Open avond
DESCRIPTION:
URL:https://www.skitteljacht.nl/event/open-avond-2/
END:VEVENT
BEGIN:VEVENT
DTSTART;TZID=Europe/Amsterdam:20190307T133000
DTEND;TZID=Europe/Amsterdam:20190307T140000
DTSTAMP:20260420T205444
CREATED:20180907T074554Z
LAST-MODIFIED:20180907T074554Z
UID:4397-1551965400-1551967200@www.skitteljacht.nl
SUMMARY:Viering groep 4-5
DESCRIPTION:
URL:https://www.skitteljacht.nl/event/viering-groep-4-5/
END:VEVENT
BEGIN:VEVENT
DTSTART;TZID=Europe/Amsterdam:20190226T080000
DTEND;TZID=Europe/Amsterdam:20190301T170000
DTSTAMP:20260420T205444
CREATED:20180907T074509Z
LAST-MODIFIED:20180907T074509Z
UID:4395-1551168000-1551459600@www.skitteljacht.nl
SUMMARY:Week 10 minuten gesprekken (uitloop)
DESCRIPTION:
URL:https://www.skitteljacht.nl/event/week-10-minuten-gesprekken-uitloop/
END:VEVENT
BEGIN:VEVENT
DTSTART;VALUE=DATE:20190226
DTEND;VALUE=DATE:20190227
DTSTAMP:20260420T205444
CREATED:20180907T074637Z
LAST-MODIFIED:20180907T074637Z
UID:4399-1551139200-1551225599@www.skitteljacht.nl
SUMMARY:Start groot project
DESCRIPTION:
URL:https://www.skitteljacht.nl/event/start-groot-project/
END:VEVENT
BEGIN:VEVENT
DTSTART;VALUE=DATE:20190225
DTEND;VALUE=DATE:20190226
DTSTAMP:20260420T205444
CREATED:20180907T074418Z
LAST-MODIFIED:20180907T074418Z
UID:4393-1551052800-1551139199@www.skitteljacht.nl
SUMMARY:Studiedag
DESCRIPTION:
URL:https://www.skitteljacht.nl/event/studiedag-2/
END:VEVENT
BEGIN:VEVENT
DTSTART;TZID=Europe/Amsterdam:20190216T080000
DTEND;TZID=Europe/Amsterdam:20190224T170000
DTSTAMP:20260420T205444
CREATED:20180907T080715Z
LAST-MODIFIED:20180907T080715Z
UID:4440-1550304000-1551027600@www.skitteljacht.nl
SUMMARY:Voorjaarsvakantie
DESCRIPTION:
URL:https://www.skitteljacht.nl/event/voorjaarsvakantie-2/
END:VEVENT
BEGIN:VEVENT
DTSTART;TZID=Europe/Amsterdam:20190212T090000
DTEND;TZID=Europe/Amsterdam:20190212T100000
DTSTAMP:20260420T205444
CREATED:20180907T074337Z
LAST-MODIFIED:20180907T074337Z
UID:4391-1549962000-1549965600@www.skitteljacht.nl
SUMMARY:Peuterinloop
DESCRIPTION:
URL:https://www.skitteljacht.nl/event/peuterinloop-7/
END:VEVENT
BEGIN:VEVENT
DTSTART;TZID=Europe/Amsterdam:20190211T080000
DTEND;TZID=Europe/Amsterdam:20190215T170000
DTSTAMP:20260420T205444
CREATED:20180907T074242Z
LAST-MODIFIED:20180907T074242Z
UID:4389-1549872000-1550250000@www.skitteljacht.nl
SUMMARY:Week 10 minuten gesprekken
DESCRIPTION:
URL:https://www.skitteljacht.nl/event/week-10-minuten-gesprekken-2/
END:VEVENT
BEGIN:VEVENT
DTSTART;VALUE=DATE:20190208
DTEND;VALUE=DATE:20190209
DTSTAMP:20260420T205444
CREATED:20180907T074156Z
LAST-MODIFIED:20180907T074156Z
UID:4387-1549584000-1549670399@www.skitteljacht.nl
SUMMARY:Rapport mee!
DESCRIPTION:
URL:https://www.skitteljacht.nl/event/rapport-mee/
END:VEVENT
BEGIN:VEVENT
DTSTART;TZID=Europe/Amsterdam:20190207T133000
DTEND;TZID=Europe/Amsterdam:20190207T140000
DTSTAMP:20260420T205444
CREATED:20180907T074119Z
LAST-MODIFIED:20180907T074119Z
UID:4385-1549546200-1549548000@www.skitteljacht.nl
SUMMARY:Viering groep 7-8
DESCRIPTION:
URL:https://www.skitteljacht.nl/event/viering-groep-7-8/
END:VEVENT
BEGIN:VEVENT
DTSTART;TZID=Europe/Amsterdam:20190131T090000
DTEND;TZID=Europe/Amsterdam:20190131T100000
DTSTAMP:20260420T205444
CREATED:20180907T074013Z
LAST-MODIFIED:20180907T074013Z
UID:4383-1548925200-1548928800@www.skitteljacht.nl
SUMMARY:Aanschuiftafel Padland Venhuizen
DESCRIPTION:
URL:https://www.skitteljacht.nl/event/aanschuiftafel-padland-venhuizen/
END:VEVENT
BEGIN:VEVENT
DTSTART;TZID=Europe/Amsterdam:20190114T090000
DTEND;TZID=Europe/Amsterdam:20190114T100000
DTSTAMP:20260420T205444
CREATED:20180907T073925Z
LAST-MODIFIED:20180907T073925Z
UID:4381-1547456400-1547460000@www.skitteljacht.nl
SUMMARY:Peuterinloop
DESCRIPTION:
URL:https://www.skitteljacht.nl/event/peuterinloop-6/
END:VEVENT
BEGIN:VEVENT
DTSTART;TZID=Europe/Amsterdam:20181222T080000
DTEND;TZID=Europe/Amsterdam:20190106T170000
DTSTAMP:20260420T205444
CREATED:20180907T080635Z
LAST-MODIFIED:20180907T080635Z
UID:4438-1545465600-1546794000@www.skitteljacht.nl
SUMMARY:Kerstvakantie
DESCRIPTION:
URL:https://www.skitteljacht.nl/event/kerstvakantie-3/
END:VEVENT
BEGIN:VEVENT
DTSTART;VALUE=DATE:20181220
DTEND;VALUE=DATE:20181221
DTSTAMP:20260420T205444
CREATED:20180907T073823Z
LAST-MODIFIED:20180907T073823Z
UID:4379-1545264000-1545350399@www.skitteljacht.nl
SUMMARY:Kerst op 't Skitteljacht
DESCRIPTION:
URL:https://www.skitteljacht.nl/event/kerst-op-t-skitteljacht/
END:VEVENT
BEGIN:VEVENT
DTSTART;VALUE=DATE:20181205
DTEND;VALUE=DATE:20181206
DTSTAMP:20260420T205444
CREATED:20180907T073724Z
LAST-MODIFIED:20180907T073724Z
UID:4377-1543968000-1544054399@www.skitteljacht.nl
SUMMARY:Sinterklaas op 't Skitteljacht
DESCRIPTION:
URL:https://www.skitteljacht.nl/event/sinterklaas-op-t-skitteljacht/
END:VEVENT
END:VCALENDAR