﻿BEGIN:VCALENDAR
VERSION:2.0
PRODID:-//&#039;t Skitteljacht - ECPv6.3.3.1//NONSGML v1.0//EN
CALSCALE:GREGORIAN
METHOD:PUBLISH
X-WR-CALNAME:&#039;t Skitteljacht
X-ORIGINAL-URL:https://www.skitteljacht.nl
X-WR-CALDESC:Evenementen voor &#039;t Skitteljacht
REFRESH-INTERVAL;VALUE=DURATION:PT1H
X-Robots-Tag:noindex
X-PUBLISHED-TTL:PT1H
BEGIN:VTIMEZONE
TZID:Europe/Amsterdam
BEGIN:DAYLIGHT
TZOFFSETFROM:+0100
TZOFFSETTO:+0200
TZNAME:CEST
DTSTART:20180325T010000
END:DAYLIGHT
BEGIN:STANDARD
TZOFFSETFROM:+0200
TZOFFSETTO:+0100
TZNAME:CET
DTSTART:20181028T010000
END:STANDARD
END:VTIMEZONE
BEGIN:VEVENT
DTSTART;TZID=Europe/Amsterdam:20181126T090000
DTEND;TZID=Europe/Amsterdam:20181126T100000
DTSTAMP:20260421T075106
CREATED:20180907T073638Z
LAST-MODIFIED:20180907T073638Z
UID:4375-1543222800-1543226400@www.skitteljacht.nl
SUMMARY:Aanschuiftafel Westwijzer Westwoud
DESCRIPTION:
URL:https://www.skitteljacht.nl/event/aanschuiftafel-westwijzer-westwoud/
END:VEVENT
BEGIN:VEVENT
DTSTART;TZID=Europe/Amsterdam:20181119T080000
DTEND;TZID=Europe/Amsterdam:20181123T170000
DTSTAMP:20260421T075106
CREATED:20180907T073453Z
LAST-MODIFIED:20180907T073453Z
UID:4371-1542614400-1542992400@www.skitteljacht.nl
SUMMARY:Week 10 minuten gesprekken
DESCRIPTION:
URL:https://www.skitteljacht.nl/event/week-10-minuten-gesprekken/
END:VEVENT
BEGIN:VEVENT
DTSTART;TZID=Europe/Amsterdam:20181113T090000
DTEND;TZID=Europe/Amsterdam:20181113T100000
DTSTAMP:20260421T075106
CREATED:20180907T073403Z
LAST-MODIFIED:20180907T073403Z
UID:4368-1542099600-1542103200@www.skitteljacht.nl
SUMMARY:Peuterinloop
DESCRIPTION:
URL:https://www.skitteljacht.nl/event/peuterinloop-5/
END:VEVENT
BEGIN:VEVENT
DTSTART;TZID=Europe/Amsterdam:20181108T200000
DTEND;TZID=Europe/Amsterdam:20181108T213000
DTSTAMP:20260421T075106
CREATED:20180907T073226Z
LAST-MODIFIED:20180907T073226Z
UID:4366-1541707200-1541712600@www.skitteljacht.nl
SUMMARY:Voorlichtingsavond voortgezet onderwijs
DESCRIPTION:
URL:https://www.skitteljacht.nl/event/voorlichtingsavond-voortgezet-onderwijs/
END:VEVENT
BEGIN:VEVENT
DTSTART;TZID=Europe/Amsterdam:20181107T083000
DTEND;TZID=Europe/Amsterdam:20181107T090000
DTSTAMP:20260421T075106
CREATED:20180907T073025Z
LAST-MODIFIED:20180907T073025Z
UID:4361-1541579400-1541581200@www.skitteljacht.nl
SUMMARY:Nationaal schoolontbijt
DESCRIPTION:
URL:https://www.skitteljacht.nl/event/nationaal-schoolontbijt/
END:VEVENT
BEGIN:VEVENT
DTSTART;TZID=Europe/Amsterdam:20181020T080000
DTEND;TZID=Europe/Amsterdam:20181028T170000
DTSTAMP:20260421T075106
CREATED:20180907T080555Z
LAST-MODIFIED:20180907T080555Z
UID:4436-1540022400-1540746000@www.skitteljacht.nl
SUMMARY:Herfstvakantie
DESCRIPTION:
URL:https://www.skitteljacht.nl/event/herfstvakantie-2/
END:VEVENT
BEGIN:VEVENT
DTSTART;TZID=Europe/Amsterdam:20181018T133000
DTEND;TZID=Europe/Amsterdam:20181018T140000
DTSTAMP:20260421T075106
CREATED:20180920T084409Z
LAST-MODIFIED:20180920T084409Z
UID:4450-1539869400-1539871200@www.skitteljacht.nl
SUMMARY:Musical groepen 1-2
DESCRIPTION:
URL:https://www.skitteljacht.nl/event/musical-groepen-1-2/
END:VEVENT
BEGIN:VEVENT
DTSTART;TZID=Europe/Amsterdam:20181003T090000
DTEND;TZID=Europe/Amsterdam:20181003T100000
DTSTAMP:20260421T075106
CREATED:20180907T073548Z
LAST-MODIFIED:20180907T073548Z
UID:4373-1538557200-1538560800@www.skitteljacht.nl
SUMMARY:Aanschuiftafel Jozefschool Venhuizen
DESCRIPTION:
URL:https://www.skitteljacht.nl/event/aanschuiftafel-jozefschool-venhuizen/
END:VEVENT
BEGIN:VEVENT
DTSTART;VALUE=DATE:20181003
DTEND;VALUE=DATE:20181004
DTSTAMP:20260421T075106
CREATED:20180907T072626Z
LAST-MODIFIED:20180907T072626Z
UID:4357-1538524800-1538611199@www.skitteljacht.nl
SUMMARY:Start Kinderboekenweek 'Kom erbij!'
DESCRIPTION:
URL:https://www.skitteljacht.nl/event/start-kinderboekenweek-kom-erbij/
END:VEVENT
BEGIN:VEVENT
DTSTART;TZID=Europe/Amsterdam:20180925T183000
DTEND;TZID=Europe/Amsterdam:20180925T200000
DTSTAMP:20260421T075106
CREATED:20180907T072319Z
LAST-MODIFIED:20180907T072319Z
UID:4352-1537900200-1537905600@www.skitteljacht.nl
SUMMARY:Info avond
DESCRIPTION:
URL:https://www.skitteljacht.nl/event/info-avond/
END:VEVENT
BEGIN:VEVENT
DTSTART;VALUE=DATE:20180925
DTEND;VALUE=DATE:20180926
DTSTAMP:20260421T075106
CREATED:20180907T072409Z
LAST-MODIFIED:20180907T072409Z
UID:4355-1537833600-1537919999@www.skitteljacht.nl
SUMMARY:Voorleestraining groep 6-7
DESCRIPTION:
URL:https://www.skitteljacht.nl/event/voorleestraining-groep-6-7/
END:VEVENT
BEGIN:VEVENT
DTSTART;VALUE=DATE:20180920
DTEND;VALUE=DATE:20180921
DTSTAMP:20260421T075106
CREATED:20180907T072130Z
LAST-MODIFIED:20180907T072130Z
UID:4347-1537401600-1537487999@www.skitteljacht.nl
SUMMARY:Afname NIO
DESCRIPTION:
URL:https://www.skitteljacht.nl/event/afname-nio/
END:VEVENT
BEGIN:VEVENT
DTSTART;VALUE=DATE:20180918
DTEND;VALUE=DATE:20180919
DTSTAMP:20260421T075106
CREATED:20180907T072054Z
LAST-MODIFIED:20180907T072054Z
UID:4345-1537228800-1537315199@www.skitteljacht.nl
SUMMARY:Techniekbus bovenbouw
DESCRIPTION:
URL:https://www.skitteljacht.nl/event/techniekbus-bovenbouw/
END:VEVENT
BEGIN:VEVENT
DTSTART;VALUE=DATE:20180917
DTEND;VALUE=DATE:20180918
DTSTAMP:20260421T075106
CREATED:20180907T071938Z
LAST-MODIFIED:20180907T071938Z
UID:4343-1537142400-1537228799@www.skitteljacht.nl
SUMMARY:Schoolfotograaf
DESCRIPTION:
URL:https://www.skitteljacht.nl/event/schoolfotograaf-2/
END:VEVENT
BEGIN:VEVENT
DTSTART;TZID=Europe/Amsterdam:20180721T120000
DTEND;TZID=Europe/Amsterdam:20180903T170000
DTSTAMP:20260421T075106
CREATED:20180401T165143Z
LAST-MODIFIED:20180403T140406Z
UID:3345-1532174400-1535994000@www.skitteljacht.nl
SUMMARY:zomervakantie!
DESCRIPTION:
URL:https://www.skitteljacht.nl/event/12-uur-start-zomervakantie/
END:VEVENT
BEGIN:VEVENT
DTSTART;TZID=Europe/Amsterdam:20180720T120000
DTEND;TZID=Europe/Amsterdam:20180720T170000
DTSTAMP:20260421T075106
CREATED:20180403T140439Z
LAST-MODIFIED:20180403T140439Z
UID:3382-1532088000-1532106000@www.skitteljacht.nl
SUMMARY:12 uur start de zomervakantie!
DESCRIPTION:
URL:https://www.skitteljacht.nl/event/12-uur-start-de-zomervakantie/
END:VEVENT
BEGIN:VEVENT
DTSTART;TZID=Europe/Amsterdam:20180718T193000
DTEND;TZID=Europe/Amsterdam:20180718T193000
DTSTAMP:20260421T075106
CREATED:20180401T165058Z
LAST-MODIFIED:20180401T165058Z
UID:3343-1531942200-1531942200@www.skitteljacht.nl
SUMMARY:Afscheidsavond groep 8
DESCRIPTION:
URL:https://www.skitteljacht.nl/event/afscheidsavond-groep-8/
END:VEVENT
BEGIN:VEVENT
DTSTART;TZID=Europe/Amsterdam:20180710T133000
DTEND;TZID=Europe/Amsterdam:20180710T143000
DTSTAMP:20260421T075106
CREATED:20180403T135721Z
LAST-MODIFIED:20180403T135721Z
UID:3377-1531229400-1531233000@www.skitteljacht.nl
SUMMARY:Excursie Skik - groep 5/6
DESCRIPTION:
URL:https://www.skitteljacht.nl/event/excursie-skik-groep-5-6/
END:VEVENT
BEGIN:VEVENT
DTSTART;TZID=Europe/Amsterdam:20180709T080000
DTEND;TZID=Europe/Amsterdam:20180713T170000
DTSTAMP:20260421T075106
CREATED:20180401T165016Z
LAST-MODIFIED:20180401T165016Z
UID:3341-1531123200-1531501200@www.skitteljacht.nl
SUMMARY:10 minutengesprekken - week
DESCRIPTION:
URL:https://www.skitteljacht.nl/event/10-minutengesprekken-week/
END:VEVENT
BEGIN:VEVENT
DTSTART;TZID=Europe/Amsterdam:20180704T200000
DTEND;TZID=Europe/Amsterdam:20180704T210000
DTSTAMP:20260421T075106
CREATED:20180401T164925Z
LAST-MODIFIED:20180401T164925Z
UID:3339-1530734400-1530738000@www.skitteljacht.nl
SUMMARY:OR vergadering
DESCRIPTION:
URL:https://www.skitteljacht.nl/event/or-vergadering-4/
END:VEVENT
BEGIN:VEVENT
DTSTART;TZID=Europe/Amsterdam:20180704T080000
DTEND;TZID=Europe/Amsterdam:20180704T170000
DTSTAMP:20260421T075106
CREATED:20180517T122844Z
LAST-MODIFIED:20180517T122844Z
UID:3639-1530691200-1530723600@www.skitteljacht.nl
SUMMARY:Studiedag overdracht
DESCRIPTION:
URL:https://www.skitteljacht.nl/event/studiedag-overdracht/
END:VEVENT
BEGIN:VEVENT
DTSTART;TZID=Europe/Amsterdam:20180703T083000
DTEND;TZID=Europe/Amsterdam:20180703T160000
DTSTAMP:20260421T075106
CREATED:20180403T135800Z
LAST-MODIFIED:20180403T135800Z
UID:3379-1530606600-1530633600@www.skitteljacht.nl
SUMMARY:Schoolreis groep 5/6 & 6/7
DESCRIPTION:
URL:https://www.skitteljacht.nl/event/schoolreis-groep-5-6-6-7/
END:VEVENT
BEGIN:VEVENT
DTSTART;TZID=Europe/Amsterdam:20180702T080000
DTEND;TZID=Europe/Amsterdam:20180702T170000
DTSTAMP:20260421T075106
CREATED:20180401T164827Z
LAST-MODIFIED:20180401T164827Z
UID:3337-1530518400-1530550800@www.skitteljacht.nl
SUMMARY:Rapporten mee
DESCRIPTION:
URL:https://www.skitteljacht.nl/event/rapporten-mee-2/
END:VEVENT
BEGIN:VEVENT
DTSTART;TZID=Europe/Amsterdam:20180627T200000
DTEND;TZID=Europe/Amsterdam:20180627T210000
DTSTAMP:20260421T075106
CREATED:20180401T164741Z
LAST-MODIFIED:20180401T164741Z
UID:3335-1530129600-1530133200@www.skitteljacht.nl
SUMMARY:MR vergadering
DESCRIPTION:
URL:https://www.skitteljacht.nl/event/mr-vergadering-3/
END:VEVENT
BEGIN:VEVENT
DTSTART;TZID=Europe/Amsterdam:20180626T080000
DTEND;TZID=Europe/Amsterdam:20180626T170000
DTSTAMP:20260421T075106
CREATED:20180401T164657Z
LAST-MODIFIED:20180401T164657Z
UID:3333-1530000000-1530032400@www.skitteljacht.nl
SUMMARY:Sportdag
DESCRIPTION:We kunnen uw hulp goed gebruiken deze dag. Houdt u hem vast vrij?
URL:https://www.skitteljacht.nl/event/sportdag/
END:VEVENT
BEGIN:VEVENT
DTSTART;TZID=Europe/Amsterdam:20180621T143000
DTEND;TZID=Europe/Amsterdam:20180621T151500
DTSTAMP:20260421T075106
CREATED:20180403T093304Z
LAST-MODIFIED:20180403T135638Z
UID:3361-1529591400-1529594100@www.skitteljacht.nl
SUMMARY:bezoek aan Skik groep 1/2
DESCRIPTION:
URL:https://www.skitteljacht.nl/event/bezoek-aan-skik-groep-1-2/
END:VEVENT
BEGIN:VEVENT
DTSTART;TZID=Europe/Amsterdam:20180615T190000
DTEND;TZID=Europe/Amsterdam:20180615T220000
DTSTAMP:20260421T075106
CREATED:20180401T170254Z
LAST-MODIFIED:20180401T170254Z
UID:3353-1529089200-1529100000@www.skitteljacht.nl
SUMMARY:Volleybaltoernooi leerkrachten
DESCRIPTION:In de sporthal de Flint te Bovenkarspel gaan de leerkrachten van ’t Skitteljacht proberen om voor de 4e keer de beker in de wacht te slepen op het jaarlijkse volleybaltoernooi. Vorig jaar hadden we alle wedstrijden gewonnen maar net niet genoeg punten gescoord om ook overall de beker te winnen. Dit jaar gaan we er natuurlijk weer voor! Komen jullie ons aanmoedigen? Het toernooi start om 19.00 uur!
URL:https://www.skitteljacht.nl/event/volleybaltoernooi-leerkrachten/
END:VEVENT
BEGIN:VEVENT
DTSTART;TZID=Europe/Amsterdam:20180608T080000
DTEND;TZID=Europe/Amsterdam:20180608T170000
DTSTAMP:20260421T075106
CREATED:20180401T164559Z
LAST-MODIFIED:20180401T164559Z
UID:3331-1528444800-1528477200@www.skitteljacht.nl
SUMMARY:groep 1 t/m 4 vrij
DESCRIPTION:
URL:https://www.skitteljacht.nl/event/groep-1-t-m-4-vrij-2/
END:VEVENT
BEGIN:VEVENT
DTSTART;TZID=Europe/Amsterdam:20180606T200000
DTEND;TZID=Europe/Amsterdam:20180606T210000
DTSTAMP:20260421T075106
CREATED:20180401T164410Z
LAST-MODIFIED:20180401T164410Z
UID:3327-1528315200-1528318800@www.skitteljacht.nl
SUMMARY:OR vergadering
DESCRIPTION:
URL:https://www.skitteljacht.nl/event/or-vergadering-3/
END:VEVENT
BEGIN:VEVENT
DTSTART;TZID=Europe/Amsterdam:20180606T080000
DTEND;TZID=Europe/Amsterdam:20180608T170000
DTSTAMP:20260421T075106
CREATED:20180401T164458Z
LAST-MODIFIED:20180401T164458Z
UID:3329-1528272000-1528477200@www.skitteljacht.nl
SUMMARY:Kamp groep 8
DESCRIPTION:
URL:https://www.skitteljacht.nl/event/kamp-groep-8/
END:VEVENT
END:VCALENDAR