﻿BEGIN:VCALENDAR
VERSION:2.0
PRODID:-//&#039;t Skitteljacht - ECPv6.3.3.1//NONSGML v1.0//EN
CALSCALE:GREGORIAN
METHOD:PUBLISH
X-WR-CALNAME:&#039;t Skitteljacht
X-ORIGINAL-URL:https://www.skitteljacht.nl
X-WR-CALDESC:Evenementen voor &#039;t Skitteljacht
REFRESH-INTERVAL;VALUE=DURATION:PT1H
X-Robots-Tag:noindex
X-PUBLISHED-TTL:PT1H
BEGIN:VTIMEZONE
TZID:Europe/Amsterdam
BEGIN:DAYLIGHT
TZOFFSETFROM:+0100
TZOFFSETTO:+0200
TZNAME:CEST
DTSTART:20180325T010000
END:DAYLIGHT
BEGIN:STANDARD
TZOFFSETFROM:+0200
TZOFFSETTO:+0100
TZNAME:CET
DTSTART:20181028T010000
END:STANDARD
END:VTIMEZONE
BEGIN:VEVENT
DTSTART;TZID=Europe/Amsterdam:20180704T080000
DTEND;TZID=Europe/Amsterdam:20180704T170000
DTSTAMP:20260421T073113
CREATED:20180517T122844Z
LAST-MODIFIED:20180517T122844Z
UID:3639-1530691200-1530723600@www.skitteljacht.nl
SUMMARY:Studiedag overdracht
DESCRIPTION:
URL:https://www.skitteljacht.nl/event/studiedag-overdracht/
END:VEVENT
BEGIN:VEVENT
DTSTART;TZID=Europe/Amsterdam:20180703T083000
DTEND;TZID=Europe/Amsterdam:20180703T160000
DTSTAMP:20260421T073113
CREATED:20180403T135800Z
LAST-MODIFIED:20180403T135800Z
UID:3379-1530606600-1530633600@www.skitteljacht.nl
SUMMARY:Schoolreis groep 5/6 & 6/7
DESCRIPTION:
URL:https://www.skitteljacht.nl/event/schoolreis-groep-5-6-6-7/
END:VEVENT
BEGIN:VEVENT
DTSTART;TZID=Europe/Amsterdam:20180702T080000
DTEND;TZID=Europe/Amsterdam:20180702T170000
DTSTAMP:20260421T073113
CREATED:20180401T164827Z
LAST-MODIFIED:20180401T164827Z
UID:3337-1530518400-1530550800@www.skitteljacht.nl
SUMMARY:Rapporten mee
DESCRIPTION:
URL:https://www.skitteljacht.nl/event/rapporten-mee-2/
END:VEVENT
BEGIN:VEVENT
DTSTART;TZID=Europe/Amsterdam:20180627T200000
DTEND;TZID=Europe/Amsterdam:20180627T210000
DTSTAMP:20260421T073113
CREATED:20180401T164741Z
LAST-MODIFIED:20180401T164741Z
UID:3335-1530129600-1530133200@www.skitteljacht.nl
SUMMARY:MR vergadering
DESCRIPTION:
URL:https://www.skitteljacht.nl/event/mr-vergadering-3/
END:VEVENT
BEGIN:VEVENT
DTSTART;TZID=Europe/Amsterdam:20180626T080000
DTEND;TZID=Europe/Amsterdam:20180626T170000
DTSTAMP:20260421T073113
CREATED:20180401T164657Z
LAST-MODIFIED:20180401T164657Z
UID:3333-1530000000-1530032400@www.skitteljacht.nl
SUMMARY:Sportdag
DESCRIPTION:We kunnen uw hulp goed gebruiken deze dag. Houdt u hem vast vrij?
URL:https://www.skitteljacht.nl/event/sportdag/
END:VEVENT
BEGIN:VEVENT
DTSTART;TZID=Europe/Amsterdam:20180621T143000
DTEND;TZID=Europe/Amsterdam:20180621T151500
DTSTAMP:20260421T073113
CREATED:20180403T093304Z
LAST-MODIFIED:20180403T135638Z
UID:3361-1529591400-1529594100@www.skitteljacht.nl
SUMMARY:bezoek aan Skik groep 1/2
DESCRIPTION:
URL:https://www.skitteljacht.nl/event/bezoek-aan-skik-groep-1-2/
END:VEVENT
BEGIN:VEVENT
DTSTART;TZID=Europe/Amsterdam:20180615T190000
DTEND;TZID=Europe/Amsterdam:20180615T220000
DTSTAMP:20260421T073113
CREATED:20180401T170254Z
LAST-MODIFIED:20180401T170254Z
UID:3353-1529089200-1529100000@www.skitteljacht.nl
SUMMARY:Volleybaltoernooi leerkrachten
DESCRIPTION:In de sporthal de Flint te Bovenkarspel gaan de leerkrachten van ’t Skitteljacht proberen om voor de 4e keer de beker in de wacht te slepen op het jaarlijkse volleybaltoernooi. Vorig jaar hadden we alle wedstrijden gewonnen maar net niet genoeg punten gescoord om ook overall de beker te winnen. Dit jaar gaan we er natuurlijk weer voor! Komen jullie ons aanmoedigen? Het toernooi start om 19.00 uur!
URL:https://www.skitteljacht.nl/event/volleybaltoernooi-leerkrachten/
END:VEVENT
BEGIN:VEVENT
DTSTART;TZID=Europe/Amsterdam:20180608T080000
DTEND;TZID=Europe/Amsterdam:20180608T170000
DTSTAMP:20260421T073113
CREATED:20180401T164559Z
LAST-MODIFIED:20180401T164559Z
UID:3331-1528444800-1528477200@www.skitteljacht.nl
SUMMARY:groep 1 t/m 4 vrij
DESCRIPTION:
URL:https://www.skitteljacht.nl/event/groep-1-t-m-4-vrij-2/
END:VEVENT
BEGIN:VEVENT
DTSTART;TZID=Europe/Amsterdam:20180606T200000
DTEND;TZID=Europe/Amsterdam:20180606T210000
DTSTAMP:20260421T073113
CREATED:20180401T164410Z
LAST-MODIFIED:20180401T164410Z
UID:3327-1528315200-1528318800@www.skitteljacht.nl
SUMMARY:OR vergadering
DESCRIPTION:
URL:https://www.skitteljacht.nl/event/or-vergadering-3/
END:VEVENT
BEGIN:VEVENT
DTSTART;TZID=Europe/Amsterdam:20180606T080000
DTEND;TZID=Europe/Amsterdam:20180608T170000
DTSTAMP:20260421T073113
CREATED:20180401T164458Z
LAST-MODIFIED:20180401T164458Z
UID:3329-1528272000-1528477200@www.skitteljacht.nl
SUMMARY:Kamp groep 8
DESCRIPTION:
URL:https://www.skitteljacht.nl/event/kamp-groep-8/
END:VEVENT
BEGIN:VEVENT
DTSTART;TZID=Europe/Amsterdam:20180605T080000
DTEND;TZID=Europe/Amsterdam:20180608T170000
DTSTAMP:20260421T073113
CREATED:20180401T164326Z
LAST-MODIFIED:20180401T164326Z
UID:3325-1528185600-1528477200@www.skitteljacht.nl
SUMMARY:Avondvierdaagse
DESCRIPTION:
URL:https://www.skitteljacht.nl/event/avondvierdaagse/
END:VEVENT
BEGIN:VEVENT
DTSTART;TZID=Europe/Amsterdam:20180531T083000
DTEND;TZID=Europe/Amsterdam:20180531T151500
DTSTAMP:20260421T073113
CREATED:20180403T093208Z
LAST-MODIFIED:20180403T093426Z
UID:3359-1527755400-1527779700@www.skitteljacht.nl
SUMMARY:schoolreisje groep 1/2 en 2/3
DESCRIPTION:
URL:https://www.skitteljacht.nl/event/schoolreisje-groep-1-2-en-2-3/
END:VEVENT
BEGIN:VEVENT
DTSTART;TZID=Europe/Amsterdam:20180529T131500
DTEND;TZID=Europe/Amsterdam:20180529T141500
DTSTAMP:20260421T073113
CREATED:20180403T135602Z
LAST-MODIFIED:20180403T135602Z
UID:3375-1527599700-1527603300@www.skitteljacht.nl
SUMMARY:Excursie Skik - groep 8
DESCRIPTION:
URL:https://www.skitteljacht.nl/event/excursie-skik-groep-8/
END:VEVENT
BEGIN:VEVENT
DTSTART;TZID=Europe/Amsterdam:20180529T083000
DTEND;TZID=Europe/Amsterdam:20180529T170000
DTSTAMP:20260421T073113
CREATED:20180401T170013Z
LAST-MODIFIED:20180401T170013Z
UID:3351-1527582600-1527613200@www.skitteljacht.nl
SUMMARY:schoolreisje groep 4
DESCRIPTION:
URL:https://www.skitteljacht.nl/event/schoolreisje-groep-4/
END:VEVENT
BEGIN:VEVENT
DTSTART;TZID=Europe/Amsterdam:20180524T080000
DTEND;TZID=Europe/Amsterdam:20180524T170000
DTSTAMP:20260421T073113
CREATED:20180403T135522Z
LAST-MODIFIED:20180403T135522Z
UID:3373-1527148800-1527181200@www.skitteljacht.nl
SUMMARY:voorstelling Roadtrippin - groep 8
DESCRIPTION:
URL:https://www.skitteljacht.nl/event/voorstelling-roadtrippin-groep-8/
END:VEVENT
BEGIN:VEVENT
DTSTART;TZID=Europe/Amsterdam:20180523T200000
DTEND;TZID=Europe/Amsterdam:20180523T210000
DTSTAMP:20260421T073113
CREATED:20180401T164234Z
LAST-MODIFIED:20180401T164234Z
UID:3323-1527105600-1527109200@www.skitteljacht.nl
SUMMARY:MR vergadering
DESCRIPTION:
URL:https://www.skitteljacht.nl/event/mr-vergadering-2/
END:VEVENT
BEGIN:VEVENT
DTSTART;TZID=Europe/Amsterdam:20180522T131500
DTEND;TZID=Europe/Amsterdam:20180522T140000
DTSTAMP:20260421T073113
CREATED:20180403T135449Z
LAST-MODIFIED:20180403T135449Z
UID:3371-1526994900-1526997600@www.skitteljacht.nl
SUMMARY:Excursie Skik - groep 2/3
DESCRIPTION:
URL:https://www.skitteljacht.nl/event/excursie-skik-groep-2-3/
END:VEVENT
BEGIN:VEVENT
DTSTART;TZID=Europe/Amsterdam:20180520T080000
DTEND;TZID=Europe/Amsterdam:20180521T170000
DTSTAMP:20260421T073113
CREATED:20180401T164154Z
LAST-MODIFIED:20180401T164154Z
UID:3321-1526803200-1526922000@www.skitteljacht.nl
SUMMARY:Pinksterweekend
DESCRIPTION:
URL:https://www.skitteljacht.nl/event/pinksterweekend/
END:VEVENT
BEGIN:VEVENT
DTSTART;TZID=Europe/Amsterdam:20180516T200000
DTEND;TZID=Europe/Amsterdam:20180516T210000
DTSTAMP:20260421T073113
CREATED:20180401T164118Z
LAST-MODIFIED:20180401T164118Z
UID:3319-1526500800-1526504400@www.skitteljacht.nl
SUMMARY:OR vergadering
DESCRIPTION:
URL:https://www.skitteljacht.nl/event/or-vergadering-2/
END:VEVENT
BEGIN:VEVENT
DTSTART;TZID=Europe/Amsterdam:20180427T080000
DTEND;TZID=Europe/Amsterdam:20180513T170000
DTSTAMP:20260421T073113
CREATED:20180401T164032Z
LAST-MODIFIED:20180401T164032Z
UID:3316-1524816000-1526230800@www.skitteljacht.nl
SUMMARY:Meivakantie
DESCRIPTION:
URL:https://www.skitteljacht.nl/event/meivakantie/
END:VEVENT
BEGIN:VEVENT
DTSTART;TZID=Europe/Amsterdam:20180426T170000
DTEND;TZID=Europe/Amsterdam:20180426T190000
DTSTAMP:20260421T073113
CREATED:20180403T135407Z
LAST-MODIFIED:20180403T135407Z
UID:3369-1524762000-1524769200@www.skitteljacht.nl
SUMMARY:Bingo
DESCRIPTION:De tijden volgen in de uitnodiging.
URL:https://www.skitteljacht.nl/event/bingo/
END:VEVENT
BEGIN:VEVENT
DTSTART;TZID=Europe/Amsterdam:20180426T133000
DTEND;TZID=Europe/Amsterdam:20180426T143000
DTSTAMP:20260421T073113
CREATED:20180401T165901Z
LAST-MODIFIED:20180401T165901Z
UID:3349-1524749400-1524753000@www.skitteljacht.nl
SUMMARY:excursie Skik - groep 4
DESCRIPTION:
URL:https://www.skitteljacht.nl/event/excursie-skik-groep-4/
END:VEVENT
BEGIN:VEVENT
DTSTART;TZID=Europe/Amsterdam:20180424T090000
DTEND;TZID=Europe/Amsterdam:20180424T153000
DTSTAMP:20260421T073113
CREATED:20180403T135309Z
LAST-MODIFIED:20180403T135910Z
UID:3367-1524560400-1524583800@www.skitteljacht.nl
SUMMARY:Excursie Zuiderzeemuseum - groep 4
DESCRIPTION:
URL:https://www.skitteljacht.nl/event/excursie-zuiderzeemuseum-groep-4/
END:VEVENT
BEGIN:VEVENT
DTSTART;TZID=Europe/Amsterdam:20180419T133000
DTEND;TZID=Europe/Amsterdam:20180419T140000
DTSTAMP:20260421T073113
CREATED:20180401T163936Z
LAST-MODIFIED:20180401T163936Z
UID:3314-1524144600-1524146400@www.skitteljacht.nl
SUMMARY:Maandviering groep 2/3
DESCRIPTION:We starten om 13.30 uur. Ouders van groep 2/3 zijn van harte uitgenodigd om te komen kijken.
URL:https://www.skitteljacht.nl/event/maandviering-groep-2-3/
END:VEVENT
BEGIN:VEVENT
DTSTART;TZID=Europe/Amsterdam:20180417T080000
DTEND;TZID=Europe/Amsterdam:20180417T170000
DTSTAMP:20260421T073113
CREATED:20180401T163834Z
LAST-MODIFIED:20180401T163834Z
UID:3312-1523952000-1523984400@www.skitteljacht.nl
SUMMARY:Start eindtoets groep 8
DESCRIPTION:
URL:https://www.skitteljacht.nl/event/start-eindtoets-groep-8/
END:VEVENT
BEGIN:VEVENT
DTSTART;TZID=Europe/Amsterdam:20180412T133000
DTEND;TZID=Europe/Amsterdam:20180412T143000
DTSTAMP:20260421T073113
CREATED:20180401T165801Z
LAST-MODIFIED:20180401T165801Z
UID:3347-1523539800-1523543400@www.skitteljacht.nl
SUMMARY:voorstelling Banbankun voor groep 2/3 en 4
DESCRIPTION:
URL:https://www.skitteljacht.nl/event/voorstelling-banbankun-voor-groep-2-3-en-4/
END:VEVENT
BEGIN:VEVENT
DTSTART;TZID=Europe/Amsterdam:20180411T200000
DTEND;TZID=Europe/Amsterdam:20180411T210000
DTSTAMP:20260421T073113
CREATED:20180401T163643Z
LAST-MODIFIED:20180401T163643Z
UID:3306-1523476800-1523480400@www.skitteljacht.nl
SUMMARY:MR vergadering
DESCRIPTION:
URL:https://www.skitteljacht.nl/event/mr-vergadering/
END:VEVENT
BEGIN:VEVENT
DTSTART;TZID=Europe/Amsterdam:20180410T131500
DTEND;TZID=Europe/Amsterdam:20180410T141500
DTSTAMP:20260421T073113
CREATED:20180403T135208Z
LAST-MODIFIED:20180403T135208Z
UID:3365-1523366100-1523369700@www.skitteljacht.nl
SUMMARY:Excursie Skik - groep 6/7
DESCRIPTION:
URL:https://www.skitteljacht.nl/event/excursie-skik-groep-6-7/
END:VEVENT
BEGIN:VEVENT
DTSTART;TZID=Europe/Amsterdam:20180405T083000
DTEND;TZID=Europe/Amsterdam:20180405T120000
DTSTAMP:20260421T073113
CREATED:20180403T135122Z
LAST-MODIFIED:20180403T135122Z
UID:3363-1522917000-1522929600@www.skitteljacht.nl
SUMMARY:Verkeersexamen groep 8
DESCRIPTION:
URL:https://www.skitteljacht.nl/event/verkeersexamen-groep-8/
END:VEVENT
BEGIN:VEVENT
DTSTART;TZID=Europe/Amsterdam:20180404T200000
DTEND;TZID=Europe/Amsterdam:20180404T210000
DTSTAMP:20260421T073113
CREATED:20180401T163551Z
LAST-MODIFIED:20180401T163551Z
UID:3304-1522872000-1522875600@www.skitteljacht.nl
SUMMARY:OR vergadering
DESCRIPTION:
URL:https://www.skitteljacht.nl/event/or-vergadering/
END:VEVENT
END:VCALENDAR