﻿BEGIN:VCALENDAR
VERSION:2.0
PRODID:-//&#039;t Skitteljacht - ECPv6.3.3.1//NONSGML v1.0//EN
CALSCALE:GREGORIAN
METHOD:PUBLISH
X-WR-CALNAME:&#039;t Skitteljacht
X-ORIGINAL-URL:https://www.skitteljacht.nl
X-WR-CALDESC:Evenementen voor &#039;t Skitteljacht
REFRESH-INTERVAL;VALUE=DURATION:PT1H
X-Robots-Tag:noindex
X-PUBLISHED-TTL:PT1H
BEGIN:VTIMEZONE
TZID:Europe/Amsterdam
BEGIN:DAYLIGHT
TZOFFSETFROM:+0100
TZOFFSETTO:+0200
TZNAME:CEST
DTSTART:20170326T010000
END:DAYLIGHT
BEGIN:STANDARD
TZOFFSETFROM:+0200
TZOFFSETTO:+0100
TZNAME:CET
DTSTART:20171029T010000
END:STANDARD
BEGIN:DAYLIGHT
TZOFFSETFROM:+0100
TZOFFSETTO:+0200
TZNAME:CEST
DTSTART:20180325T010000
END:DAYLIGHT
BEGIN:STANDARD
TZOFFSETFROM:+0200
TZOFFSETTO:+0100
TZNAME:CET
DTSTART:20181028T010000
END:STANDARD
END:VTIMEZONE
BEGIN:VEVENT
DTSTART;TZID=Europe/Amsterdam:20180222T133000
DTEND;TZID=Europe/Amsterdam:20180222T140000
DTSTAMP:20260423T140325
CREATED:20170908T131256Z
LAST-MODIFIED:20170908T131256Z
UID:869-1519306200-1519308000@www.skitteljacht.nl
SUMMARY:viering groep 5/6
DESCRIPTION:De viering van groep 5/6 begint om 13.30 uur. Ouders van groep 5/6 zijn van harte welkom om te komen kijken.
URL:https://www.skitteljacht.nl/event/viering-groep-56/
END:VEVENT
BEGIN:VEVENT
DTSTART;TZID=Europe/Amsterdam:20180219T080000
DTEND;TZID=Europe/Amsterdam:20180222T170000
DTSTAMP:20260423T140325
CREATED:20170908T131138Z
LAST-MODIFIED:20170908T131138Z
UID:867-1519027200-1519318800@www.skitteljacht.nl
SUMMARY:10 minuten gesprekken
DESCRIPTION:Deze week vinden de 10 minuten gesprekken weer plaats. Meer informatie ontvangt u via de e-mail.
URL:https://www.skitteljacht.nl/event/10-minuten-gesprekken-2/
END:VEVENT
BEGIN:VEVENT
DTSTART;TZID=Europe/Amsterdam:20180215T131500
DTEND;TZID=Europe/Amsterdam:20180215T151500
DTSTAMP:20260423T140325
CREATED:20170908T131040Z
LAST-MODIFIED:20170908T131040Z
UID:864-1518700500-1518707700@www.skitteljacht.nl
SUMMARY:Carnaval
DESCRIPTION:Vanmiddag vieren we carnaval op school!
URL:https://www.skitteljacht.nl/event/carnaval/
END:VEVENT
BEGIN:VEVENT
DTSTART;TZID=Europe/Amsterdam:20180213T090000
DTEND;TZID=Europe/Amsterdam:20180213T100000
DTSTAMP:20260423T140325
CREATED:20170908T130945Z
LAST-MODIFIED:20170908T130945Z
UID:861-1518512400-1518516000@www.skitteljacht.nl
SUMMARY:Peuterinloop
DESCRIPTION:Vanmorgen openen wij onze deuren van 09.00 tot 10.00 uur voor nieuwe peuters. Samen met hun ouders zijn ze van harte welkom om kennis te maken met onze school. Uw peuter mag dan spelen in de kleuterklas terwijl u een rondleiding krijgt door onze school.\nKunt u vandaag niet dan kunt u ook altijd een andere afspraak maken. Bel ons op 0228-561876 of mail met onze directeur Ellen van der Gulik\, directie@skitteljacht.nl
URL:https://www.skitteljacht.nl/event/peuterinloop-3/
END:VEVENT
BEGIN:VEVENT
DTSTART;TZID=Europe/Amsterdam:20180212T151500
DTEND;TZID=Europe/Amsterdam:20180212T153000
DTSTAMP:20260423T140325
CREATED:20170908T130859Z
LAST-MODIFIED:20170908T130859Z
UID:858-1518448500-1518449400@www.skitteljacht.nl
SUMMARY:rapporten mee
DESCRIPTION:Vanmiddag krijgen de kinderen hun rapport mee naar huis. Volgende week volgen de 10 minuten gesprekken.
URL:https://www.skitteljacht.nl/event/rapporten-mee/
END:VEVENT
BEGIN:VEVENT
DTSTART;VALUE=DATE:20180129
DTEND;VALUE=DATE:20180203
DTSTAMP:20260423T140325
CREATED:20170908T130019Z
LAST-MODIFIED:20170908T130019Z
UID:849-1517184000-1517615999@www.skitteljacht.nl
SUMMARY:Toetsweek 2 t/m 7
DESCRIPTION:
URL:https://www.skitteljacht.nl/event/toetsweek-2-tm-7/
END:VEVENT
BEGIN:VEVENT
DTSTART;VALUE=DATE:20180122
DTEND;VALUE=DATE:20180127
DTSTAMP:20260423T140325
CREATED:20170908T125943Z
LAST-MODIFIED:20170908T125943Z
UID:846-1516579200-1517011199@www.skitteljacht.nl
SUMMARY:Toetsweek groep 2 t/m 8
DESCRIPTION:
URL:https://www.skitteljacht.nl/event/toetsweek-groep-2-tm-8/
END:VEVENT
BEGIN:VEVENT
DTSTART;TZID=Europe/Amsterdam:20180115T090000
DTEND;TZID=Europe/Amsterdam:20180115T100000
DTSTAMP:20260423T140325
CREATED:20170908T125842Z
LAST-MODIFIED:20170908T125842Z
UID:839-1516006800-1516010400@www.skitteljacht.nl
SUMMARY:Peuterinloop
DESCRIPTION:Vanmorgen openen wij onze deuren van 09.00 tot 10.00 uur voor nieuwe peuters. Samen met hun ouders zijn ze van harte welkom om kennis te maken met onze school. Uw peuter mag dan spelen in de kleuterklas terwijl u een rondleiding krijgt door onze school.\nKunt u vandaag niet dan kunt u ook altijd een andere afspraak maken. Bel ons op 0228-561876 of mail met onze directeur Ellen van der Gulik\, directie@skitteljacht.nl
URL:https://www.skitteljacht.nl/event/peuterinloop-2/
END:VEVENT
BEGIN:VEVENT
DTSTART;VALUE=DATE:20180115
DTEND;VALUE=DATE:20180120
DTSTAMP:20260423T140325
CREATED:20170908T125908Z
LAST-MODIFIED:20170908T125908Z
UID:844-1515974400-1516406399@www.skitteljacht.nl
SUMMARY:Toetsweek groep 8
DESCRIPTION:
URL:https://www.skitteljacht.nl/event/toetsweek-groep-8/
END:VEVENT
BEGIN:VEVENT
DTSTART;VALUE=DATE:20180101
DTEND;VALUE=DATE:20180106
DTSTAMP:20260423T140325
CREATED:20170908T125729Z
LAST-MODIFIED:20170908T125729Z
UID:837-1514764800-1515196799@www.skitteljacht.nl
SUMMARY:kerstvakantie
DESCRIPTION:
URL:https://www.skitteljacht.nl/event/kerstvakantie-2/
END:VEVENT
BEGIN:VEVENT
DTSTART;VALUE=DATE:20171225
DTEND;VALUE=DATE:20171230
DTSTAMP:20260423T140325
CREATED:20170908T125704Z
LAST-MODIFIED:20170908T125704Z
UID:835-1514160000-1514591999@www.skitteljacht.nl
SUMMARY:kerstvakantie
DESCRIPTION:
URL:https://www.skitteljacht.nl/event/kerstvakantie/
END:VEVENT
BEGIN:VEVENT
DTSTART;TZID=Europe/Amsterdam:20171206T093000
DTEND;TZID=Europe/Amsterdam:20171206T153000
DTSTAMP:20260423T140325
CREATED:20170908T125207Z
LAST-MODIFIED:20170908T125207Z
UID:831-1512552600-1512574200@www.skitteljacht.nl
SUMMARY:school start om 9.30 uur
DESCRIPTION:Omdat veel kinderen gisteravond thuis Sinterklaasavond hebben gevierd beginnen we vandaag om 9.30 uur.
URL:https://www.skitteljacht.nl/event/school-start-om-9-30-uur/
END:VEVENT
BEGIN:VEVENT
DTSTART;VALUE=DATE:20171204
DTEND;VALUE=DATE:20171205
DTSTAMP:20260423T140325
CREATED:20170908T125053Z
LAST-MODIFIED:20170908T125053Z
UID:829-1512345600-1512431999@www.skitteljacht.nl
SUMMARY:Sinterklaas
DESCRIPTION:Vandaag komt Sinterklaas bij ons op school!
URL:https://www.skitteljacht.nl/event/sinterklaas/
END:VEVENT
BEGIN:VEVENT
DTSTART;TZID=Europe/Amsterdam:20171123T080000
DTEND;TZID=Europe/Amsterdam:20171123T170000
DTSTAMP:20260423T140325
CREATED:20170908T124947Z
LAST-MODIFIED:20170908T124947Z
UID:827-1511424000-1511456400@www.skitteljacht.nl
SUMMARY:viering groep 8
DESCRIPTION:De viering van groep 8 begint om 13.30 uur. Ouders van groep 8 zijn van harte welkom om te komen kijken.
URL:https://www.skitteljacht.nl/event/viering-groep-8/
END:VEVENT
BEGIN:VEVENT
DTSTART;VALUE=DATE:20171120
DTEND;VALUE=DATE:20171125
DTSTAMP:20260423T140325
CREATED:20170908T124844Z
LAST-MODIFIED:20170908T124844Z
UID:823-1511136000-1511567999@www.skitteljacht.nl
SUMMARY:10 minuten gesprekken
DESCRIPTION:Deze week vinden de 10 minuten gesprekken plaats. Meer informatie ontvangt u via de mail.
URL:https://www.skitteljacht.nl/event/10-minuten-gesprekken/
END:VEVENT
BEGIN:VEVENT
DTSTART;VALUE=DATE:20171117
DTEND;VALUE=DATE:20171118
DTSTAMP:20260423T140325
CREATED:20170908T124756Z
LAST-MODIFIED:20170908T124756Z
UID:819-1510876800-1510963199@www.skitteljacht.nl
SUMMARY:groep 1 t/m 4 vrij
DESCRIPTION:
URL:https://www.skitteljacht.nl/event/groep-1-tm-4-vrij-3/
END:VEVENT
BEGIN:VEVENT
DTSTART;TZID=Europe/Amsterdam:20171114T090000
DTEND;TZID=Europe/Amsterdam:20171114T100000
DTSTAMP:20260423T140325
CREATED:20170908T124725Z
LAST-MODIFIED:20170908T124725Z
UID:811-1510650000-1510653600@www.skitteljacht.nl
SUMMARY:Peuterinloop
DESCRIPTION:Vanmorgen openen wij onze deuren van 09.00 tot 10.00 uur voor nieuwe peuters. Samen met hun ouders zijn ze van harte welkom om kennis te maken met onze school. Uw peuter mag dan spelen in de kleuterklas terwijl u een rondleiding krijgt door onze school.\nKunt u vandaag niet dan kunt u ook altijd een andere afspraak maken. Bel ons op 0228-561876 of mail met onze directeur Ellen van der Gulik\, directie@skitteljacht.nl
URL:https://www.skitteljacht.nl/event/peuterinloop/
END:VEVENT
BEGIN:VEVENT
DTSTART;VALUE=DATE:20171111
DTEND;VALUE=DATE:20171112
DTSTAMP:20260423T140325
CREATED:20170908T122930Z
LAST-MODIFIED:20170908T122930Z
UID:809-1510358400-1510444799@www.skitteljacht.nl
SUMMARY:Sint Maarten
DESCRIPTION:
URL:https://www.skitteljacht.nl/event/sint-maarten/
END:VEVENT
BEGIN:VEVENT
DTSTART;VALUE=DATE:20171023
DTEND;VALUE=DATE:20171028
DTSTAMP:20260423T140325
CREATED:20170908T122825Z
LAST-MODIFIED:20170908T122825Z
UID:807-1508716800-1509148799@www.skitteljacht.nl
SUMMARY:herfstvakantie
DESCRIPTION:
URL:https://www.skitteljacht.nl/event/herfstvakantie/
END:VEVENT
BEGIN:VEVENT
DTSTART;TZID=Europe/Amsterdam:20171019T133000
DTEND;TZID=Europe/Amsterdam:20171019T140000
DTSTAMP:20260423T140325
CREATED:20170908T122743Z
LAST-MODIFIED:20170908T122743Z
UID:805-1508419800-1508421600@www.skitteljacht.nl
SUMMARY:viering groep 1/2
DESCRIPTION:De viering van groep 1/2 begint om 13.30 uur. Ouders van groep 1/2 zijn van harte welkom om te komen kijken.
URL:https://www.skitteljacht.nl/event/viering-groep-12/
END:VEVENT
BEGIN:VEVENT
DTSTART;TZID=Europe/Amsterdam:20171017T133000
DTEND;TZID=Europe/Amsterdam:20171017T143000
DTSTAMP:20260423T140325
CREATED:20171002T125415Z
LAST-MODIFIED:20171002T125415Z
UID:966-1508247000-1508250600@www.skitteljacht.nl
SUMMARY:Bezoek Heemtuin groep 2/3
DESCRIPTION:
URL:https://www.skitteljacht.nl/event/bezoek-heemtuin-groep-23/
END:VEVENT
BEGIN:VEVENT
DTSTART;TZID=Europe/Amsterdam:20171017T103000
DTEND;TZID=Europe/Amsterdam:20171017T113000
DTSTAMP:20260423T140325
CREATED:20171002T125258Z
LAST-MODIFIED:20171002T125258Z
UID:964-1508236200-1508239800@www.skitteljacht.nl
SUMMARY:Bezoek Heemtuin groep 1/2
DESCRIPTION:
URL:https://www.skitteljacht.nl/event/bezoek-heemtuin-groep-12/
END:VEVENT
BEGIN:VEVENT
DTSTART;VALUE=DATE:20171016
DTEND;VALUE=DATE:20171017
DTSTAMP:20260423T140325
CREATED:20170908T122545Z
LAST-MODIFIED:20170908T122545Z
UID:803-1508112000-1508198399@www.skitteljacht.nl
SUMMARY:Schoolfotograaf
DESCRIPTION:Vandaag komt de schoolfotograaf. Meer informatie volgt nog.
URL:https://www.skitteljacht.nl/event/schoolfotograaf/
END:VEVENT
BEGIN:VEVENT
DTSTART;VALUE=DATE:20171013
DTEND;VALUE=DATE:20171014
DTSTAMP:20260423T140325
CREATED:20170908T122458Z
LAST-MODIFIED:20170908T122458Z
UID:801-1507852800-1507939199@www.skitteljacht.nl
SUMMARY:Groep 1 t/m 4 vrij
DESCRIPTION:
URL:https://www.skitteljacht.nl/event/groep-1-tm-4-vrij-2/
END:VEVENT
BEGIN:VEVENT
DTSTART;TZID=Europe/Amsterdam:20171009T131500
DTEND;TZID=Europe/Amsterdam:20171009T141500
DTSTAMP:20260423T140325
CREATED:20171002T123632Z
LAST-MODIFIED:20171002T125158Z
UID:961-1507554900-1507558500@www.skitteljacht.nl
SUMMARY:Bezoek Heemtuin groep 4
DESCRIPTION:Bezoek Heemtuin groep 4
URL:https://www.skitteljacht.nl/event/961/
END:VEVENT
BEGIN:VEVENT
DTSTART;TZID=Europe/Amsterdam:20171005T133000
DTEND;TZID=Europe/Amsterdam:20171005T140000
DTSTAMP:20260423T140325
CREATED:20170908T122323Z
LAST-MODIFIED:20170908T122323Z
UID:799-1507210200-1507212000@www.skitteljacht.nl
SUMMARY:Viering groep 6/7
DESCRIPTION:Vanmiddag heeft groep 6/7 de eer om de eerste maandviering van dit jaar te doen. De viering begint om 13.30 uur. Ouders van groep 6/7 zijn van harte welkom om te komen kijken.
URL:https://www.skitteljacht.nl/event/viering-groep-67/
END:VEVENT
BEGIN:VEVENT
DTSTART;VALUE=DATE:20171004
DTEND;VALUE=DATE:20171005
DTSTAMP:20260423T140325
CREATED:20170908T122146Z
LAST-MODIFIED:20170908T122146Z
UID:797-1507075200-1507161599@www.skitteljacht.nl
SUMMARY:Start kinderboekenweek
DESCRIPTION:Vanaf vandaag is het weer kinderboekenweek. Het thema is dit jaar Gruwelijk Eng!
URL:https://www.skitteljacht.nl/event/start-kinderboekenweek/
END:VEVENT
BEGIN:VEVENT
DTSTART;TZID=Europe/Amsterdam:20170927T080000
DTEND;TZID=Europe/Amsterdam:20170927T170000
DTSTAMP:20260423T140325
CREATED:20170908T122030Z
LAST-MODIFIED:20170908T122030Z
UID:795-1506499200-1506531600@www.skitteljacht.nl
SUMMARY:Kinderpostzegels
DESCRIPTION:Vandaag gaan de leerlingen van groep 7 en 8 langs de deuren om kinderpostzegels te verkopen. U koopt toch ook een mooi pakketje van ze?
URL:https://www.skitteljacht.nl/event/kinderpostzegels/
END:VEVENT
BEGIN:VEVENT
DTSTART;VALUE=DATE:20170926
DTEND;VALUE=DATE:20170927
DTSTAMP:20260423T140325
CREATED:20170908T121810Z
LAST-MODIFIED:20170908T121810Z
UID:793-1506384000-1506470399@www.skitteljacht.nl
SUMMARY:Nio groep 8
DESCRIPTION:Groep 8 heeft vandaag de NIO toets. Succes!
URL:https://www.skitteljacht.nl/event/nio-groep-8/
END:VEVENT
BEGIN:VEVENT
DTSTART;VALUE=DATE:20170922
DTEND;VALUE=DATE:20170923
DTSTAMP:20260423T140325
CREATED:20170908T121733Z
LAST-MODIFIED:20170908T121733Z
UID:791-1506038400-1506124799@www.skitteljacht.nl
SUMMARY:Groep 1 t/m 4 vrij
DESCRIPTION:De groepen 1 t/m 4 hebben vandaag geen school.
URL:https://www.skitteljacht.nl/event/groep-1-tm-4-vrij/
END:VEVENT
END:VCALENDAR