﻿BEGIN:VCALENDAR
VERSION:2.0
PRODID:-//&#039;t Skitteljacht - ECPv6.3.3.1//NONSGML v1.0//EN
CALSCALE:GREGORIAN
METHOD:PUBLISH
X-WR-CALNAME:&#039;t Skitteljacht
X-ORIGINAL-URL:https://www.skitteljacht.nl
X-WR-CALDESC:Evenementen voor &#039;t Skitteljacht
REFRESH-INTERVAL;VALUE=DURATION:PT1H
X-Robots-Tag:noindex
X-PUBLISHED-TTL:PT1H
BEGIN:VTIMEZONE
TZID:Europe/Amsterdam
BEGIN:DAYLIGHT
TZOFFSETFROM:+0100
TZOFFSETTO:+0200
TZNAME:CEST
DTSTART:20170326T010000
END:DAYLIGHT
BEGIN:STANDARD
TZOFFSETFROM:+0200
TZOFFSETTO:+0100
TZNAME:CET
DTSTART:20171029T010000
END:STANDARD
END:VTIMEZONE
BEGIN:VEVENT
DTSTART;TZID=Europe/Amsterdam:20171017T133000
DTEND;TZID=Europe/Amsterdam:20171017T143000
DTSTAMP:20260423T232058
CREATED:20171002T125415Z
LAST-MODIFIED:20171002T125415Z
UID:966-1508247000-1508250600@www.skitteljacht.nl
SUMMARY:Bezoek Heemtuin groep 2/3
DESCRIPTION:
URL:https://www.skitteljacht.nl/event/bezoek-heemtuin-groep-23/
END:VEVENT
BEGIN:VEVENT
DTSTART;TZID=Europe/Amsterdam:20171017T103000
DTEND;TZID=Europe/Amsterdam:20171017T113000
DTSTAMP:20260423T232058
CREATED:20171002T125258Z
LAST-MODIFIED:20171002T125258Z
UID:964-1508236200-1508239800@www.skitteljacht.nl
SUMMARY:Bezoek Heemtuin groep 1/2
DESCRIPTION:
URL:https://www.skitteljacht.nl/event/bezoek-heemtuin-groep-12/
END:VEVENT
BEGIN:VEVENT
DTSTART;VALUE=DATE:20171016
DTEND;VALUE=DATE:20171017
DTSTAMP:20260423T232058
CREATED:20170908T122545Z
LAST-MODIFIED:20170908T122545Z
UID:803-1508112000-1508198399@www.skitteljacht.nl
SUMMARY:Schoolfotograaf
DESCRIPTION:Vandaag komt de schoolfotograaf. Meer informatie volgt nog.
URL:https://www.skitteljacht.nl/event/schoolfotograaf/
END:VEVENT
BEGIN:VEVENT
DTSTART;VALUE=DATE:20171013
DTEND;VALUE=DATE:20171014
DTSTAMP:20260423T232058
CREATED:20170908T122458Z
LAST-MODIFIED:20170908T122458Z
UID:801-1507852800-1507939199@www.skitteljacht.nl
SUMMARY:Groep 1 t/m 4 vrij
DESCRIPTION:
URL:https://www.skitteljacht.nl/event/groep-1-tm-4-vrij-2/
END:VEVENT
BEGIN:VEVENT
DTSTART;TZID=Europe/Amsterdam:20171009T131500
DTEND;TZID=Europe/Amsterdam:20171009T141500
DTSTAMP:20260423T232058
CREATED:20171002T123632Z
LAST-MODIFIED:20171002T125158Z
UID:961-1507554900-1507558500@www.skitteljacht.nl
SUMMARY:Bezoek Heemtuin groep 4
DESCRIPTION:Bezoek Heemtuin groep 4
URL:https://www.skitteljacht.nl/event/961/
END:VEVENT
BEGIN:VEVENT
DTSTART;TZID=Europe/Amsterdam:20171005T133000
DTEND;TZID=Europe/Amsterdam:20171005T140000
DTSTAMP:20260423T232058
CREATED:20170908T122323Z
LAST-MODIFIED:20170908T122323Z
UID:799-1507210200-1507212000@www.skitteljacht.nl
SUMMARY:Viering groep 6/7
DESCRIPTION:Vanmiddag heeft groep 6/7 de eer om de eerste maandviering van dit jaar te doen. De viering begint om 13.30 uur. Ouders van groep 6/7 zijn van harte welkom om te komen kijken.
URL:https://www.skitteljacht.nl/event/viering-groep-67/
END:VEVENT
BEGIN:VEVENT
DTSTART;VALUE=DATE:20171004
DTEND;VALUE=DATE:20171005
DTSTAMP:20260423T232058
CREATED:20170908T122146Z
LAST-MODIFIED:20170908T122146Z
UID:797-1507075200-1507161599@www.skitteljacht.nl
SUMMARY:Start kinderboekenweek
DESCRIPTION:Vanaf vandaag is het weer kinderboekenweek. Het thema is dit jaar Gruwelijk Eng!
URL:https://www.skitteljacht.nl/event/start-kinderboekenweek/
END:VEVENT
BEGIN:VEVENT
DTSTART;TZID=Europe/Amsterdam:20170927T080000
DTEND;TZID=Europe/Amsterdam:20170927T170000
DTSTAMP:20260423T232058
CREATED:20170908T122030Z
LAST-MODIFIED:20170908T122030Z
UID:795-1506499200-1506531600@www.skitteljacht.nl
SUMMARY:Kinderpostzegels
DESCRIPTION:Vandaag gaan de leerlingen van groep 7 en 8 langs de deuren om kinderpostzegels te verkopen. U koopt toch ook een mooi pakketje van ze?
URL:https://www.skitteljacht.nl/event/kinderpostzegels/
END:VEVENT
BEGIN:VEVENT
DTSTART;VALUE=DATE:20170926
DTEND;VALUE=DATE:20170927
DTSTAMP:20260423T232058
CREATED:20170908T121810Z
LAST-MODIFIED:20170908T121810Z
UID:793-1506384000-1506470399@www.skitteljacht.nl
SUMMARY:Nio groep 8
DESCRIPTION:Groep 8 heeft vandaag de NIO toets. Succes!
URL:https://www.skitteljacht.nl/event/nio-groep-8/
END:VEVENT
BEGIN:VEVENT
DTSTART;VALUE=DATE:20170922
DTEND;VALUE=DATE:20170923
DTSTAMP:20260423T232058
CREATED:20170908T121733Z
LAST-MODIFIED:20170908T121733Z
UID:791-1506038400-1506124799@www.skitteljacht.nl
SUMMARY:Groep 1 t/m 4 vrij
DESCRIPTION:De groepen 1 t/m 4 hebben vandaag geen school.
URL:https://www.skitteljacht.nl/event/groep-1-tm-4-vrij/
END:VEVENT
BEGIN:VEVENT
DTSTART;TZID=Europe/Amsterdam:20170911T183000
DTEND;TZID=Europe/Amsterdam:20170911T193000
DTSTAMP:20260423T232058
CREATED:20170908T113813Z
LAST-MODIFIED:20170908T113813Z
UID:769-1505154600-1505158200@www.skitteljacht.nl
SUMMARY:Informatieavond
DESCRIPTION:
URL:https://www.skitteljacht.nl/event/informatieavond/
CATEGORIES:Algemeen
END:VEVENT
END:VCALENDAR