﻿BEGIN:VCALENDAR
VERSION:2.0
PRODID:-//&#039;t Skitteljacht - ECPv6.3.3.1//NONSGML v1.0//EN
CALSCALE:GREGORIAN
METHOD:PUBLISH
X-WR-CALNAME:&#039;t Skitteljacht
X-ORIGINAL-URL:https://www.skitteljacht.nl
X-WR-CALDESC:Evenementen voor &#039;t Skitteljacht
REFRESH-INTERVAL;VALUE=DURATION:PT1H
X-Robots-Tag:noindex
X-PUBLISHED-TTL:PT1H
BEGIN:VTIMEZONE
TZID:Europe/Amsterdam
BEGIN:DAYLIGHT
TZOFFSETFROM:+0100
TZOFFSETTO:+0200
TZNAME:CEST
DTSTART:20210328T010000
END:DAYLIGHT
BEGIN:STANDARD
TZOFFSETFROM:+0200
TZOFFSETTO:+0100
TZNAME:CET
DTSTART:20211031T010000
END:STANDARD
BEGIN:DAYLIGHT
TZOFFSETFROM:+0100
TZOFFSETTO:+0200
TZNAME:CEST
DTSTART:20220327T010000
END:DAYLIGHT
BEGIN:STANDARD
TZOFFSETFROM:+0200
TZOFFSETTO:+0100
TZNAME:CET
DTSTART:20221030T010000
END:STANDARD
END:VTIMEZONE
BEGIN:VEVENT
DTSTART;TZID=Europe/Amsterdam:20220118T090000
DTEND;TZID=Europe/Amsterdam:20220118T100000
DTSTAMP:20260420T062909
CREATED:20210708T093131Z
LAST-MODIFIED:20210708T093131Z
UID:10032-1642496400-1642500000@www.skitteljacht.nl
SUMMARY:Peuterinloop 9.00 - 10.00 uur
DESCRIPTION:
URL:https://www.skitteljacht.nl/event/peuterinloop-9-00-10-00-uur-5/
END:VEVENT
BEGIN:VEVENT
DTSTART;VALUE=DATE:20211227
DTEND;VALUE=DATE:20220108
DTSTAMP:20260420T062909
CREATED:20210708T094051Z
LAST-MODIFIED:20210708T094051Z
UID:10042-1640563200-1641599999@www.skitteljacht.nl
SUMMARY:Kerstvakantie
DESCRIPTION:
URL:https://www.skitteljacht.nl/event/kerstvakantie-5/
END:VEVENT
BEGIN:VEVENT
DTSTART;TZID=Europe/Amsterdam:20211125T090000
DTEND;TZID=Europe/Amsterdam:20211125T100000
DTSTAMP:20260420T062909
CREATED:20210708T093039Z
LAST-MODIFIED:20210708T093039Z
UID:10030-1637830800-1637834400@www.skitteljacht.nl
SUMMARY:Peuterinloop 9.00 - 10.00 uur
DESCRIPTION:
URL:https://www.skitteljacht.nl/event/peuterinloop-9-00-10-00-uur-4/
END:VEVENT
BEGIN:VEVENT
DTSTART;VALUE=DATE:20211018
DTEND;VALUE=DATE:20211023
DTSTAMP:20260420T062909
CREATED:20210708T093930Z
LAST-MODIFIED:20210708T093930Z
UID:10040-1634515200-1634947199@www.skitteljacht.nl
SUMMARY:Herfstvakantie
DESCRIPTION:
URL:https://www.skitteljacht.nl/event/herfstvakantie-4/
END:VEVENT
BEGIN:VEVENT
DTSTART;TZID=Europe/Amsterdam:20210913T090000
DTEND;TZID=Europe/Amsterdam:20210913T100000
DTSTAMP:20260420T062909
CREATED:20210708T092948Z
LAST-MODIFIED:20210708T092948Z
UID:10028-1631523600-1631527200@www.skitteljacht.nl
SUMMARY:Peuterinloop 9.00 - 10.00 uur
DESCRIPTION:
URL:https://www.skitteljacht.nl/event/peuterinloop-9-00-10-00-uur-3/
END:VEVENT
BEGIN:VEVENT
DTSTART;VALUE=DATE:20210823
DTEND;VALUE=DATE:20210824
DTSTAMP:20260420T062909
CREATED:20210708T092229Z
LAST-MODIFIED:20210708T092229Z
UID:10026-1629676800-1629763199@www.skitteljacht.nl
SUMMARY:Weer naar school
DESCRIPTION:
URL:https://www.skitteljacht.nl/event/weer-naar-school-2/
END:VEVENT
BEGIN:VEVENT
DTSTART;TZID=Europe/Amsterdam:20210709T141500
DTEND;TZID=Europe/Amsterdam:20210709T141500
DTSTAMP:20260420T062909
CREATED:20201105T151126Z
LAST-MODIFIED:20210705T103521Z
UID:9959-1625840100-1625840100@www.skitteljacht.nl
SUMMARY:Start Zomervakantie
DESCRIPTION:
URL:https://www.skitteljacht.nl/event/start-zomervakantie-2/
END:VEVENT
BEGIN:VEVENT
DTSTART;VALUE=DATE:20210708
DTEND;VALUE=DATE:20210709
DTSTAMP:20260420T062909
CREATED:20201105T151034Z
LAST-MODIFIED:20201105T151034Z
UID:9957-1625702400-1625788799@www.skitteljacht.nl
SUMMARY:Wisseluur
DESCRIPTION:
URL:https://www.skitteljacht.nl/event/wisseluur-4/
END:VEVENT
BEGIN:VEVENT
DTSTART;TZID=Europe/Amsterdam:20210707T193000
DTEND;TZID=Europe/Amsterdam:20210707T230000
DTSTAMP:20260420T062909
CREATED:20201105T150919Z
LAST-MODIFIED:20201105T150919Z
UID:9955-1625686200-1625698800@www.skitteljacht.nl
SUMMARY:Afscheid groep 8
DESCRIPTION:
URL:https://www.skitteljacht.nl/event/afscheid-groep-8-3/
END:VEVENT
BEGIN:VEVENT
DTSTART;VALUE=DATE:20210622
DTEND;VALUE=DATE:20210623
DTSTAMP:20260420T062909
CREATED:20201105T150823Z
LAST-MODIFIED:20201105T150823Z
UID:9953-1624320000-1624406399@www.skitteljacht.nl
SUMMARY:Sportdag
DESCRIPTION:
URL:https://www.skitteljacht.nl/event/sportdag-3/
END:VEVENT
BEGIN:VEVENT
DTSTART;VALUE=DATE:20210621
DTEND;VALUE=DATE:20210626
DTSTAMP:20260420T062909
CREATED:20201105T150751Z
LAST-MODIFIED:20201105T150751Z
UID:9951-1624233600-1624665599@www.skitteljacht.nl
SUMMARY:Week 10 minuten-gesprekken
DESCRIPTION:
URL:https://www.skitteljacht.nl/event/week-10-minuten-gesprekken-6/
END:VEVENT
BEGIN:VEVENT
DTSTART;VALUE=DATE:20210616
DTEND;VALUE=DATE:20210617
DTSTAMP:20260420T062909
CREATED:20201105T150706Z
LAST-MODIFIED:20201105T150706Z
UID:9949-1623801600-1623887999@www.skitteljacht.nl
SUMMARY:Rapport mee
DESCRIPTION:
URL:https://www.skitteljacht.nl/event/rapport-mee-6/
END:VEVENT
BEGIN:VEVENT
DTSTART;TZID=Europe/Amsterdam:20210615T190000
DTEND;TZID=Europe/Amsterdam:20210615T203000
DTSTAMP:20260420T062909
CREATED:20201105T150616Z
LAST-MODIFIED:20201105T150616Z
UID:9947-1623783600-1623789000@www.skitteljacht.nl
SUMMARY:MR
DESCRIPTION:
URL:https://www.skitteljacht.nl/event/mr-6/
END:VEVENT
BEGIN:VEVENT
DTSTART;VALUE=DATE:20210607
DTEND;VALUE=DATE:20210612
DTSTAMP:20260420T062909
CREATED:20201105T150537Z
LAST-MODIFIED:20201105T150537Z
UID:9945-1623024000-1623455999@www.skitteljacht.nl
SUMMARY:Cito week 2
DESCRIPTION:
URL:https://www.skitteljacht.nl/event/cito-week-2-2/
END:VEVENT
BEGIN:VEVENT
DTSTART;TZID=Europe/Amsterdam:20210604T130000
DTEND;TZID=Europe/Amsterdam:20210604T140000
DTSTAMP:20260420T062909
CREATED:20201105T150500Z
LAST-MODIFIED:20201105T150500Z
UID:9943-1622811600-1622815200@www.skitteljacht.nl
SUMMARY:Viering groep 7
DESCRIPTION:
URL:https://www.skitteljacht.nl/event/viering-groep-7/
END:VEVENT
BEGIN:VEVENT
DTSTART;VALUE=DATE:20210531
DTEND;VALUE=DATE:20210605
DTSTAMP:20260420T062909
CREATED:20201105T150413Z
LAST-MODIFIED:20201105T150413Z
UID:9941-1622419200-1622851199@www.skitteljacht.nl
SUMMARY:Cito week 1
DESCRIPTION:
URL:https://www.skitteljacht.nl/event/cito-week-1-2/
END:VEVENT
BEGIN:VEVENT
DTSTART;TZID=Europe/Amsterdam:20210527T090000
DTEND;TZID=Europe/Amsterdam:20210527T100000
DTSTAMP:20260420T062909
CREATED:20201105T145714Z
LAST-MODIFIED:20201105T145714Z
UID:9938-1622106000-1622109600@www.skitteljacht.nl
SUMMARY:Peuterinloop 9.00 - 10.00 uur
DESCRIPTION:
URL:https://www.skitteljacht.nl/event/peuterinloop-9-00-10-00-uur-2/
END:VEVENT
BEGIN:VEVENT
DTSTART;VALUE=DATE:20210524
DTEND;VALUE=DATE:20210525
DTSTAMP:20260420T062909
CREATED:20201105T145221Z
LAST-MODIFIED:20210407T085311Z
UID:9936-1621814400-1621900799@www.skitteljacht.nl
SUMMARY:2e Pinksterdag vrij
DESCRIPTION:
URL:https://www.skitteljacht.nl/event/2e-pinksterdag-3/
END:VEVENT
BEGIN:VEVENT
DTSTART;VALUE=DATE:20210523
DTEND;VALUE=DATE:20210524
DTSTAMP:20260420T062909
CREATED:20201105T145143Z
LAST-MODIFIED:20201105T145143Z
UID:9934-1621728000-1621814399@www.skitteljacht.nl
SUMMARY:1e Pinksterdag
DESCRIPTION:
URL:https://www.skitteljacht.nl/event/1e-pinksterdag-2/
END:VEVENT
BEGIN:VEVENT
DTSTART;VALUE=DATE:20210517
DTEND;VALUE=DATE:20210518
DTSTAMP:20260420T062909
CREATED:20201105T145103Z
LAST-MODIFIED:20201105T145103Z
UID:9932-1621209600-1621295999@www.skitteljacht.nl
SUMMARY:Unit 4
DESCRIPTION:
URL:https://www.skitteljacht.nl/event/unit-4/
END:VEVENT
BEGIN:VEVENT
DTSTART;VALUE=DATE:20210514
DTEND;VALUE=DATE:20210515
DTSTAMP:20260420T062909
CREATED:20201105T145030Z
LAST-MODIFIED:20201105T145030Z
UID:9930-1620950400-1621036799@www.skitteljacht.nl
SUMMARY:Vrij
DESCRIPTION:
URL:https://www.skitteljacht.nl/event/vrij-2/
END:VEVENT
BEGIN:VEVENT
DTSTART;VALUE=DATE:20210513
DTEND;VALUE=DATE:20210514
DTSTAMP:20260420T062909
CREATED:20201105T144959Z
LAST-MODIFIED:20210407T085131Z
UID:9928-1620864000-1620950399@www.skitteljacht.nl
SUMMARY:Hemelvaartsdag vrij
DESCRIPTION:
URL:https://www.skitteljacht.nl/event/hemelvaartsdag-2/
END:VEVENT
BEGIN:VEVENT
DTSTART;TZID=Europe/Amsterdam:20210511T190000
DTEND;TZID=Europe/Amsterdam:20210511T203000
DTSTAMP:20260420T062909
CREATED:20201105T144913Z
LAST-MODIFIED:20201105T144913Z
UID:9926-1620759600-1620765000@www.skitteljacht.nl
SUMMARY:MR
DESCRIPTION:
URL:https://www.skitteljacht.nl/event/mr-5/
END:VEVENT
BEGIN:VEVENT
DTSTART;VALUE=DATE:20210505
DTEND;VALUE=DATE:20210506
DTSTAMP:20260420T062909
CREATED:20201105T144834Z
LAST-MODIFIED:20201105T144834Z
UID:9924-1620172800-1620259199@www.skitteljacht.nl
SUMMARY:Bevrijdingsdag
DESCRIPTION:
URL:https://www.skitteljacht.nl/event/bevrijdingsdag-2/
END:VEVENT
BEGIN:VEVENT
DTSTART;VALUE=DATE:20210504
DTEND;VALUE=DATE:20210505
DTSTAMP:20260420T062909
CREATED:20201105T144802Z
LAST-MODIFIED:20201105T144802Z
UID:9922-1620086400-1620172799@www.skitteljacht.nl
SUMMARY:Dodenherdenking
DESCRIPTION:
URL:https://www.skitteljacht.nl/event/dodenherdenking/
END:VEVENT
BEGIN:VEVENT
DTSTART;VALUE=DATE:20210427
DTEND;VALUE=DATE:20210428
DTSTAMP:20260420T062909
CREATED:20201105T144720Z
LAST-MODIFIED:20201105T144720Z
UID:9920-1619481600-1619567999@www.skitteljacht.nl
SUMMARY:Koningsdag
DESCRIPTION:
URL:https://www.skitteljacht.nl/event/koningsdag-2/
END:VEVENT
BEGIN:VEVENT
DTSTART;VALUE=DATE:20210426
DTEND;VALUE=DATE:20210508
DTSTAMP:20260420T062909
CREATED:20201105T144621Z
LAST-MODIFIED:20201105T144621Z
UID:9918-1619395200-1620431999@www.skitteljacht.nl
SUMMARY:Meivakantie
DESCRIPTION:
URL:https://www.skitteljacht.nl/event/meivakantie-3/
END:VEVENT
BEGIN:VEVENT
DTSTART;VALUE=DATE:20210419
DTEND;VALUE=DATE:20210424
DTSTAMP:20260420T062909
CREATED:20201105T144528Z
LAST-MODIFIED:20201105T144528Z
UID:9916-1618790400-1619222399@www.skitteljacht.nl
SUMMARY:Week eindtoets groep 8
DESCRIPTION:
URL:https://www.skitteljacht.nl/event/week-eindtoets-groep-8/
END:VEVENT
BEGIN:VEVENT
DTSTART;TZID=Europe/Amsterdam:20210416T130000
DTEND;TZID=Europe/Amsterdam:20210416T140000
DTSTAMP:20260420T062909
CREATED:20201105T144443Z
LAST-MODIFIED:20201105T144443Z
UID:9914-1618578000-1618581600@www.skitteljacht.nl
SUMMARY:Viering groep 5-6
DESCRIPTION:
URL:https://www.skitteljacht.nl/event/viering-groep-5-6/
END:VEVENT
BEGIN:VEVENT
DTSTART;TZID=Europe/Amsterdam:20210409T090000
DTEND;TZID=Europe/Amsterdam:20210409T100000
DTSTAMP:20260420T062909
CREATED:20201105T144355Z
LAST-MODIFIED:20201105T144355Z
UID:9912-1617958800-1617962400@www.skitteljacht.nl
SUMMARY:Peuterinloop 9.00 - 10.00 uur
DESCRIPTION:
URL:https://www.skitteljacht.nl/event/peuterinloop-9-00-10-00-uur/
END:VEVENT
END:VCALENDAR