﻿BEGIN:VCALENDAR
VERSION:2.0
PRODID:-//&#039;t Skitteljacht - ECPv6.3.3.1//NONSGML v1.0//EN
CALSCALE:GREGORIAN
METHOD:PUBLISH
X-WR-CALNAME:&#039;t Skitteljacht
X-ORIGINAL-URL:https://www.skitteljacht.nl
X-WR-CALDESC:Evenementen voor &#039;t Skitteljacht
REFRESH-INTERVAL;VALUE=DURATION:PT1H
X-Robots-Tag:noindex
X-PUBLISHED-TTL:PT1H
BEGIN:VTIMEZONE
TZID:Europe/Amsterdam
BEGIN:DAYLIGHT
TZOFFSETFROM:+0100
TZOFFSETTO:+0200
TZNAME:CEST
DTSTART:20200329T010000
END:DAYLIGHT
BEGIN:STANDARD
TZOFFSETFROM:+0200
TZOFFSETTO:+0100
TZNAME:CET
DTSTART:20201025T010000
END:STANDARD
BEGIN:DAYLIGHT
TZOFFSETFROM:+0100
TZOFFSETTO:+0200
TZNAME:CEST
DTSTART:20210328T010000
END:DAYLIGHT
BEGIN:STANDARD
TZOFFSETFROM:+0200
TZOFFSETTO:+0100
TZNAME:CET
DTSTART:20211031T010000
END:STANDARD
END:VTIMEZONE
BEGIN:VEVENT
DTSTART;VALUE=DATE:20210514
DTEND;VALUE=DATE:20210515
DTSTAMP:20260420T094549
CREATED:20201105T145030Z
LAST-MODIFIED:20201105T145030Z
UID:9930-1620950400-1621036799@www.skitteljacht.nl
SUMMARY:Vrij
DESCRIPTION:
URL:https://www.skitteljacht.nl/event/vrij-2/
END:VEVENT
BEGIN:VEVENT
DTSTART;VALUE=DATE:20210513
DTEND;VALUE=DATE:20210514
DTSTAMP:20260420T094549
CREATED:20201105T144959Z
LAST-MODIFIED:20210407T085131Z
UID:9928-1620864000-1620950399@www.skitteljacht.nl
SUMMARY:Hemelvaartsdag vrij
DESCRIPTION:
URL:https://www.skitteljacht.nl/event/hemelvaartsdag-2/
END:VEVENT
BEGIN:VEVENT
DTSTART;TZID=Europe/Amsterdam:20210511T190000
DTEND;TZID=Europe/Amsterdam:20210511T203000
DTSTAMP:20260420T094549
CREATED:20201105T144913Z
LAST-MODIFIED:20201105T144913Z
UID:9926-1620759600-1620765000@www.skitteljacht.nl
SUMMARY:MR
DESCRIPTION:
URL:https://www.skitteljacht.nl/event/mr-5/
END:VEVENT
BEGIN:VEVENT
DTSTART;VALUE=DATE:20210505
DTEND;VALUE=DATE:20210506
DTSTAMP:20260420T094549
CREATED:20201105T144834Z
LAST-MODIFIED:20201105T144834Z
UID:9924-1620172800-1620259199@www.skitteljacht.nl
SUMMARY:Bevrijdingsdag
DESCRIPTION:
URL:https://www.skitteljacht.nl/event/bevrijdingsdag-2/
END:VEVENT
BEGIN:VEVENT
DTSTART;VALUE=DATE:20210504
DTEND;VALUE=DATE:20210505
DTSTAMP:20260420T094549
CREATED:20201105T144802Z
LAST-MODIFIED:20201105T144802Z
UID:9922-1620086400-1620172799@www.skitteljacht.nl
SUMMARY:Dodenherdenking
DESCRIPTION:
URL:https://www.skitteljacht.nl/event/dodenherdenking/
END:VEVENT
BEGIN:VEVENT
DTSTART;VALUE=DATE:20210427
DTEND;VALUE=DATE:20210428
DTSTAMP:20260420T094549
CREATED:20201105T144720Z
LAST-MODIFIED:20201105T144720Z
UID:9920-1619481600-1619567999@www.skitteljacht.nl
SUMMARY:Koningsdag
DESCRIPTION:
URL:https://www.skitteljacht.nl/event/koningsdag-2/
END:VEVENT
BEGIN:VEVENT
DTSTART;VALUE=DATE:20210426
DTEND;VALUE=DATE:20210508
DTSTAMP:20260420T094549
CREATED:20201105T144621Z
LAST-MODIFIED:20201105T144621Z
UID:9918-1619395200-1620431999@www.skitteljacht.nl
SUMMARY:Meivakantie
DESCRIPTION:
URL:https://www.skitteljacht.nl/event/meivakantie-3/
END:VEVENT
BEGIN:VEVENT
DTSTART;VALUE=DATE:20210419
DTEND;VALUE=DATE:20210424
DTSTAMP:20260420T094549
CREATED:20201105T144528Z
LAST-MODIFIED:20201105T144528Z
UID:9916-1618790400-1619222399@www.skitteljacht.nl
SUMMARY:Week eindtoets groep 8
DESCRIPTION:
URL:https://www.skitteljacht.nl/event/week-eindtoets-groep-8/
END:VEVENT
BEGIN:VEVENT
DTSTART;TZID=Europe/Amsterdam:20210416T130000
DTEND;TZID=Europe/Amsterdam:20210416T140000
DTSTAMP:20260420T094549
CREATED:20201105T144443Z
LAST-MODIFIED:20201105T144443Z
UID:9914-1618578000-1618581600@www.skitteljacht.nl
SUMMARY:Viering groep 5-6
DESCRIPTION:
URL:https://www.skitteljacht.nl/event/viering-groep-5-6/
END:VEVENT
BEGIN:VEVENT
DTSTART;TZID=Europe/Amsterdam:20210409T090000
DTEND;TZID=Europe/Amsterdam:20210409T100000
DTSTAMP:20260420T094549
CREATED:20201105T144355Z
LAST-MODIFIED:20201105T144355Z
UID:9912-1617958800-1617962400@www.skitteljacht.nl
SUMMARY:Peuterinloop 9.00 - 10.00 uur
DESCRIPTION:
URL:https://www.skitteljacht.nl/event/peuterinloop-9-00-10-00-uur/
END:VEVENT
BEGIN:VEVENT
DTSTART;VALUE=DATE:20210405
DTEND;VALUE=DATE:20210406
DTSTAMP:20260420T094549
CREATED:20201105T143100Z
LAST-MODIFIED:20201105T143100Z
UID:9910-1617580800-1617667199@www.skitteljacht.nl
SUMMARY:2e Paasdag
DESCRIPTION:
URL:https://www.skitteljacht.nl/event/2e-paasdag-2/
END:VEVENT
BEGIN:VEVENT
DTSTART;VALUE=DATE:20210404
DTEND;VALUE=DATE:20210405
DTSTAMP:20260420T094549
CREATED:20201105T143028Z
LAST-MODIFIED:20201105T143028Z
UID:9908-1617494400-1617580799@www.skitteljacht.nl
SUMMARY:1e Paasdag
DESCRIPTION:
URL:https://www.skitteljacht.nl/event/1e-paasdag-3/
END:VEVENT
BEGIN:VEVENT
DTSTART;VALUE=DATE:20210402
DTEND;VALUE=DATE:20210403
DTSTAMP:20260420T094549
CREATED:20201105T142951Z
LAST-MODIFIED:20201105T142951Z
UID:9906-1617321600-1617407999@www.skitteljacht.nl
SUMMARY:Goede vrijdag
DESCRIPTION:
URL:https://www.skitteljacht.nl/event/goede-vrijdag/
END:VEVENT
BEGIN:VEVENT
DTSTART;TZID=Europe/Amsterdam:20210323T190000
DTEND;TZID=Europe/Amsterdam:20210323T203000
DTSTAMP:20260420T094549
CREATED:20201105T142859Z
LAST-MODIFIED:20201105T142859Z
UID:9904-1616526000-1616531400@www.skitteljacht.nl
SUMMARY:MR
DESCRIPTION:
URL:https://www.skitteljacht.nl/event/mr-4/
END:VEVENT
BEGIN:VEVENT
DTSTART;TZID=Europe/Amsterdam:20210312T130000
DTEND;TZID=Europe/Amsterdam:20210312T140000
DTSTAMP:20260420T094549
CREATED:20201105T142815Z
LAST-MODIFIED:20201105T142815Z
UID:9902-1615554000-1615557600@www.skitteljacht.nl
SUMMARY:Viering groep 4-5
DESCRIPTION:
URL:https://www.skitteljacht.nl/event/viering-groep-4-5-2/
END:VEVENT
BEGIN:VEVENT
DTSTART;TZID=Europe/Amsterdam:20210309T193000
DTEND;TZID=Europe/Amsterdam:20210309T210000
DTSTAMP:20260420T094549
CREATED:20201105T142712Z
LAST-MODIFIED:20201105T142712Z
UID:9900-1615318200-1615323600@www.skitteljacht.nl
SUMMARY:Open avond ?
DESCRIPTION:
URL:https://www.skitteljacht.nl/event/open-avond-4/
END:VEVENT
BEGIN:VEVENT
DTSTART;VALUE=DATE:20210308
DTEND;VALUE=DATE:20210309
DTSTAMP:20260420T094549
CREATED:20201105T142617Z
LAST-MODIFIED:20201105T142617Z
UID:9898-1615161600-1615247999@www.skitteljacht.nl
SUMMARY:Unit 3
DESCRIPTION:
URL:https://www.skitteljacht.nl/event/unit-3/
END:VEVENT
BEGIN:VEVENT
DTSTART;TZID=Europe/Amsterdam:20210304T121500
DTEND;TZID=Europe/Amsterdam:20210304T141500
DTSTAMP:20260420T094549
CREATED:20201105T141914Z
LAST-MODIFIED:20201105T141914Z
UID:9895-1614860100-1614867300@www.skitteljacht.nl
SUMMARY:Studiemiddag\, kinderen vrij vanaf 12.15 uur
DESCRIPTION:
URL:https://www.skitteljacht.nl/event/studiemiddag-kinderen-vrij-vanaf-12-15-uur-2/
END:VEVENT
BEGIN:VEVENT
DTSTART;VALUE=DATE:20210222
DTEND;VALUE=DATE:20210227
DTSTAMP:20260420T094549
CREATED:20201001T112732Z
LAST-MODIFIED:20201001T112732Z
UID:9862-1613952000-1614383999@www.skitteljacht.nl
SUMMARY:Voorjaarsvakantie
DESCRIPTION:
URL:https://www.skitteljacht.nl/event/voorjaarsvakantie-4/
END:VEVENT
BEGIN:VEVENT
DTSTART;VALUE=DATE:20210215
DTEND;VALUE=DATE:20210220
DTSTAMP:20260420T094549
CREATED:20201001T112647Z
LAST-MODIFIED:20201001T112647Z
UID:9860-1613347200-1613779199@www.skitteljacht.nl
SUMMARY:week 10-minuten gesprekken
DESCRIPTION:
URL:https://www.skitteljacht.nl/event/week-10-minuten-gesprekken-5/
END:VEVENT
BEGIN:VEVENT
DTSTART;VALUE=DATE:20210210
DTEND;VALUE=DATE:20210211
DTSTAMP:20260420T094549
CREATED:20201001T112552Z
LAST-MODIFIED:20201001T112552Z
UID:9858-1612915200-1613001599@www.skitteljacht.nl
SUMMARY:Rapport mee
DESCRIPTION:
URL:https://www.skitteljacht.nl/event/rapport-mee-5/
END:VEVENT
BEGIN:VEVENT
DTSTART;VALUE=DATE:20210201
DTEND;VALUE=DATE:20210206
DTSTAMP:20260420T094549
CREATED:20201001T112516Z
LAST-MODIFIED:20201001T112516Z
UID:9856-1612137600-1612569599@www.skitteljacht.nl
SUMMARY:Cito week 2
DESCRIPTION:
URL:https://www.skitteljacht.nl/event/cito-week-2/
END:VEVENT
BEGIN:VEVENT
DTSTART;TZID=Europe/Amsterdam:20210129T130000
DTEND;TZID=Europe/Amsterdam:20210129T140000
DTSTAMP:20260420T094549
CREATED:20201001T112356Z
LAST-MODIFIED:20201001T112356Z
UID:9854-1611925200-1611928800@www.skitteljacht.nl
SUMMARY:Viering groep 3
DESCRIPTION:
URL:https://www.skitteljacht.nl/event/viering-groep-3/
END:VEVENT
BEGIN:VEVENT
DTSTART;TZID=Europe/Amsterdam:20210128T090000
DTEND;TZID=Europe/Amsterdam:20210128T100000
DTSTAMP:20260420T094549
CREATED:20201001T112312Z
LAST-MODIFIED:20201001T112312Z
UID:9852-1611824400-1611828000@www.skitteljacht.nl
SUMMARY:Peuterinloop
DESCRIPTION:
URL:https://www.skitteljacht.nl/event/peuterinloop-12/
END:VEVENT
BEGIN:VEVENT
DTSTART;TZID=Europe/Amsterdam:20210126T190000
DTEND;TZID=Europe/Amsterdam:20210126T203000
DTSTAMP:20260420T094549
CREATED:20201001T112228Z
LAST-MODIFIED:20201001T112228Z
UID:9850-1611687600-1611693000@www.skitteljacht.nl
SUMMARY:MR
DESCRIPTION:
URL:https://www.skitteljacht.nl/event/mr-3/
END:VEVENT
BEGIN:VEVENT
DTSTART;VALUE=DATE:20210125
DTEND;VALUE=DATE:20210130
DTSTAMP:20260420T094549
CREATED:20201001T112148Z
LAST-MODIFIED:20201001T112148Z
UID:9848-1611532800-1611964799@www.skitteljacht.nl
SUMMARY:Cito week 1
DESCRIPTION:
URL:https://www.skitteljacht.nl/event/cito-week-1/
END:VEVENT
BEGIN:VEVENT
DTSTART;VALUE=DATE:20210118
DTEND;VALUE=DATE:20210123
DTSTAMP:20260420T094549
CREATED:20201001T111951Z
LAST-MODIFIED:20201001T111951Z
UID:9844-1610928000-1611359999@www.skitteljacht.nl
SUMMARY:Cito week groep 8
DESCRIPTION:
URL:https://www.skitteljacht.nl/event/cito-week-groep-8/
END:VEVENT
BEGIN:VEVENT
DTSTART;VALUE=DATE:20210104
DTEND;VALUE=DATE:20210105
DTSTAMP:20260420T094549
CREATED:20201001T111857Z
LAST-MODIFIED:20201001T111857Z
UID:9842-1609718400-1609804799@www.skitteljacht.nl
SUMMARY:Unit 2
DESCRIPTION:
URL:https://www.skitteljacht.nl/event/unit-2/
END:VEVENT
BEGIN:VEVENT
DTSTART;VALUE=DATE:20210101
DTEND;VALUE=DATE:20210102
DTSTAMP:20260420T094549
CREATED:20200908T091703Z
LAST-MODIFIED:20200908T091703Z
UID:9647-1609459200-1609545599@www.skitteljacht.nl
SUMMARY:Gelukkig Nieuwjaar
DESCRIPTION:
URL:https://www.skitteljacht.nl/event/gelukkig-nieuwjaar/
END:VEVENT
BEGIN:VEVENT
DTSTART;VALUE=DATE:20201231
DTEND;VALUE=DATE:20210101
DTSTAMP:20260420T094549
CREATED:20200908T091618Z
LAST-MODIFIED:20200908T091618Z
UID:9645-1609372800-1609459199@www.skitteljacht.nl
SUMMARY:Oudejaarsdag
DESCRIPTION:
URL:https://www.skitteljacht.nl/event/oudejaarsdag/
END:VEVENT
END:VCALENDAR