﻿BEGIN:VCALENDAR
VERSION:2.0
PRODID:-//&#039;t Skitteljacht - ECPv6.3.3.1//NONSGML v1.0//EN
CALSCALE:GREGORIAN
METHOD:PUBLISH
X-WR-CALNAME:&#039;t Skitteljacht
X-ORIGINAL-URL:https://www.skitteljacht.nl
X-WR-CALDESC:Evenementen voor &#039;t Skitteljacht
REFRESH-INTERVAL;VALUE=DURATION:PT1H
X-Robots-Tag:noindex
X-PUBLISHED-TTL:PT1H
BEGIN:VTIMEZONE
TZID:Europe/Amsterdam
BEGIN:DAYLIGHT
TZOFFSETFROM:+0100
TZOFFSETTO:+0200
TZNAME:CEST
DTSTART:20200329T010000
END:DAYLIGHT
BEGIN:STANDARD
TZOFFSETFROM:+0200
TZOFFSETTO:+0100
TZNAME:CET
DTSTART:20201025T010000
END:STANDARD
END:VTIMEZONE
BEGIN:VEVENT
DTSTART;VALUE=DATE:20201111
DTEND;VALUE=DATE:20201112
DTSTAMP:20260420T142646
CREATED:20200903T143041Z
LAST-MODIFIED:20200903T143041Z
UID:9617-1605052800-1605139199@www.skitteljacht.nl
SUMMARY:Lampionnendag
DESCRIPTION:
URL:https://www.skitteljacht.nl/event/lampionnendag/
END:VEVENT
BEGIN:VEVENT
DTSTART;TZID=Europe/Amsterdam:20201105T190000
DTEND;TZID=Europe/Amsterdam:20201105T203000
DTSTAMP:20260420T142646
CREATED:20200903T142944Z
LAST-MODIFIED:20200903T142944Z
UID:9615-1604602800-1604608200@www.skitteljacht.nl
SUMMARY:Voorlichtingsavond Voortgezet Onderwijs
DESCRIPTION:
URL:https://www.skitteljacht.nl/event/voorlichtingsavond-voortgezet-onderwijs-2/
END:VEVENT
BEGIN:VEVENT
DTSTART;TZID=Europe/Amsterdam:20201104T083000
DTEND;TZID=Europe/Amsterdam:20201104T093000
DTSTAMP:20260420T142646
CREATED:20200903T142837Z
LAST-MODIFIED:20200903T142837Z
UID:9613-1604478600-1604482200@www.skitteljacht.nl
SUMMARY:Nationaal schoolontbijt
DESCRIPTION:
URL:https://www.skitteljacht.nl/event/nationaal-schoolontbijt-2/
END:VEVENT
BEGIN:VEVENT
DTSTART;TZID=Europe/Amsterdam:20201030T130000
DTEND;TZID=Europe/Amsterdam:20201030T140000
DTSTAMP:20260420T142646
CREATED:20200903T142701Z
LAST-MODIFIED:20200903T142701Z
UID:9611-1604062800-1604066400@www.skitteljacht.nl
SUMMARY:Viering groep 1- 2A
DESCRIPTION:
URL:https://www.skitteljacht.nl/event/viering-groep-1-2a/
END:VEVENT
BEGIN:VEVENT
DTSTART;TZID=Europe/Amsterdam:20201026T150000
DTEND;TZID=Europe/Amsterdam:20201026T180000
DTSTAMP:20260420T142646
CREATED:20200903T142527Z
LAST-MODIFIED:20200903T142527Z
UID:9609-1603724400-1603735200@www.skitteljacht.nl
SUMMARY:Week 10 minuten gesprekken
DESCRIPTION:
URL:https://www.skitteljacht.nl/event/week-10-minuten-gesprekken-4/
END:VEVENT
BEGIN:VEVENT
DTSTART;VALUE=DATE:20201019
DTEND;VALUE=DATE:20201020
DTSTAMP:20260420T142646
CREATED:20200903T142338Z
LAST-MODIFIED:20200903T142338Z
UID:9607-1603065600-1603151999@www.skitteljacht.nl
SUMMARY:Studiedag
DESCRIPTION:
URL:https://www.skitteljacht.nl/event/studiedag-5/
END:VEVENT
BEGIN:VEVENT
DTSTART;VALUE=DATE:20201012
DTEND;VALUE=DATE:20201017
DTSTAMP:20260420T142646
CREATED:20200903T142211Z
LAST-MODIFIED:20200903T142211Z
UID:9605-1602460800-1602892799@www.skitteljacht.nl
SUMMARY:Herfstvakantie
DESCRIPTION:
URL:https://www.skitteljacht.nl/event/herfstvakantie-3/
END:VEVENT
BEGIN:VEVENT
DTSTART;TZID=Europe/Amsterdam:20201009T121500
DTEND;TZID=Europe/Amsterdam:20201009T163000
DTSTAMP:20260420T142646
CREATED:20200903T142056Z
LAST-MODIFIED:20200903T142056Z
UID:9603-1602245700-1602261000@www.skitteljacht.nl
SUMMARY:Studiemiddag / kinderen vrij vanaf 12.15 uur
DESCRIPTION:
URL:https://www.skitteljacht.nl/event/studiemiddag-kinderen-vrij-vanaf-12-15-uur/
END:VEVENT
BEGIN:VEVENT
DTSTART;TZID=Europe/Amsterdam:20201008T090000
DTEND;TZID=Europe/Amsterdam:20201008T110000
DTSTAMP:20260420T142646
CREATED:20200903T141857Z
LAST-MODIFIED:20200903T141857Z
UID:9601-1602147600-1602154800@www.skitteljacht.nl
SUMMARY:Peuterinloop
DESCRIPTION:
URL:https://www.skitteljacht.nl/event/peuterinloop-10/
END:VEVENT
BEGIN:VEVENT
DTSTART;TZID=Europe/Amsterdam:20200930T083000
DTEND;TZID=Europe/Amsterdam:20200930T093000
DTSTAMP:20260420T142646
CREATED:20200903T141456Z
LAST-MODIFIED:20200903T141456Z
UID:9599-1601454600-1601458200@www.skitteljacht.nl
SUMMARY:Start Kinderboekenweek : En toen...?
DESCRIPTION:
URL:https://www.skitteljacht.nl/event/start-kinderboekenweek-en-toen/
END:VEVENT
BEGIN:VEVENT
DTSTART;VALUE=DATE:20200925
DTEND;VALUE=DATE:20200926
DTSTAMP:20260420T142646
CREATED:20200821T113418Z
LAST-MODIFIED:20200821T113418Z
UID:9590-1600992000-1601078399@www.skitteljacht.nl
SUMMARY:Viering groep 8
DESCRIPTION:
URL:https://www.skitteljacht.nl/event/viering-groep-8-2/
END:VEVENT
BEGIN:VEVENT
DTSTART;VALUE=DATE:20200921
DTEND;VALUE=DATE:20200922
DTSTAMP:20260420T142646
CREATED:20200821T113349Z
LAST-MODIFIED:20200821T113349Z
UID:9588-1600646400-1600732799@www.skitteljacht.nl
SUMMARY:MR
DESCRIPTION:
URL:https://www.skitteljacht.nl/event/mr/
END:VEVENT
BEGIN:VEVENT
DTSTART;TZID=Europe/Amsterdam:20200907T080000
DTEND;TZID=Europe/Amsterdam:20200907T080000
DTSTAMP:20260420T142646
CREATED:20200903T141316Z
LAST-MODIFIED:20200903T141316Z
UID:9597-1599465600-1599465600@www.skitteljacht.nl
SUMMARY:Unit 1
DESCRIPTION:
URL:https://www.skitteljacht.nl/event/unit-1/
END:VEVENT
BEGIN:VEVENT
DTSTART;VALUE=DATE:20200825
DTEND;VALUE=DATE:20200826
DTSTAMP:20260420T142646
CREATED:20200821T113218Z
LAST-MODIFIED:20200821T113218Z
UID:9586-1598313600-1598399999@www.skitteljacht.nl
SUMMARY:Studiemiddag IPC
DESCRIPTION:School om 12.15 uur uit!
URL:https://www.skitteljacht.nl/event/studiemiddag-ipc/
END:VEVENT
BEGIN:VEVENT
DTSTART;VALUE=DATE:20200824
DTEND;VALUE=DATE:20200825
DTSTAMP:20260420T142646
CREATED:20200821T113135Z
LAST-MODIFIED:20200821T113135Z
UID:9584-1598227200-1598313599@www.skitteljacht.nl
SUMMARY:Schoolfotograaf
DESCRIPTION:
URL:https://www.skitteljacht.nl/event/schoolfotograaf-3/
END:VEVENT
BEGIN:VEVENT
DTSTART;TZID=Europe/Amsterdam:20200817T080000
DTEND;TZID=Europe/Amsterdam:20200817T170000
DTSTAMP:20260420T142646
CREATED:20200114T125809Z
LAST-MODIFIED:20200114T125809Z
UID:9102-1597651200-1597683600@www.skitteljacht.nl
SUMMARY:Weer naar school
DESCRIPTION:
URL:https://www.skitteljacht.nl/event/weer-naar-school/
END:VEVENT
BEGIN:VEVENT
DTSTART;VALUE=DATE:20200704
DTEND;VALUE=DATE:20200817
DTSTAMP:20260420T142646
CREATED:20200114T125335Z
LAST-MODIFIED:20200114T125335Z
UID:9100-1593820800-1597622399@www.skitteljacht.nl
SUMMARY:Zomervakantie
DESCRIPTION:
URL:https://www.skitteljacht.nl/event/zomervakantie-2/
END:VEVENT
BEGIN:VEVENT
DTSTART;TZID=Europe/Amsterdam:20200703T141500
DTEND;TZID=Europe/Amsterdam:20200703T141500
DTSTAMP:20260420T142646
CREATED:20200114T125204Z
LAST-MODIFIED:20200619T135728Z
UID:9098-1593785700-1593785700@www.skitteljacht.nl
SUMMARY:Start Zomervakantie !
DESCRIPTION:
URL:https://www.skitteljacht.nl/event/start-zomervakantie/
END:VEVENT
BEGIN:VEVENT
DTSTART;TZID=Europe/Amsterdam:20200702T110000
DTEND;TZID=Europe/Amsterdam:20200702T120000
DTSTAMP:20260420T142646
CREATED:20200114T125012Z
LAST-MODIFIED:20200114T125012Z
UID:9096-1593687600-1593691200@www.skitteljacht.nl
SUMMARY:Wisseluur
DESCRIPTION:
URL:https://www.skitteljacht.nl/event/wisseluur-3/
END:VEVENT
BEGIN:VEVENT
DTSTART;TZID=Europe/Amsterdam:20200701T193000
DTEND;TZID=Europe/Amsterdam:20200701T220000
DTSTAMP:20260420T142646
CREATED:20200114T124746Z
LAST-MODIFIED:20200114T124746Z
UID:9094-1593631800-1593640800@www.skitteljacht.nl
SUMMARY:Afscheid groep 8
DESCRIPTION:
URL:https://www.skitteljacht.nl/event/afscheid-groep-8-2/
END:VEVENT
BEGIN:VEVENT
DTSTART;VALUE=DATE:20200624
DTEND;VALUE=DATE:20200625
DTSTAMP:20260420T142646
CREATED:20200114T130419Z
LAST-MODIFIED:20200114T130454Z
UID:9106-1592956800-1593043199@www.skitteljacht.nl
SUMMARY:Studiedag alle kinderen vrij
DESCRIPTION:
URL:https://www.skitteljacht.nl/event/studiedag-4/
END:VEVENT
BEGIN:VEVENT
DTSTART;VALUE=DATE:20200621
DTEND;VALUE=DATE:20200622
DTSTAMP:20260420T142646
CREATED:20200114T130327Z
LAST-MODIFIED:20200114T130327Z
UID:9104-1592697600-1592783999@www.skitteljacht.nl
SUMMARY:Vaderdag
DESCRIPTION:
URL:https://www.skitteljacht.nl/event/vaderdag/
END:VEVENT
BEGIN:VEVENT
DTSTART;VALUE=DATE:20200616
DTEND;VALUE=DATE:20200617
DTSTAMP:20260420T142646
CREATED:20200114T124640Z
LAST-MODIFIED:20200114T124640Z
UID:9092-1592265600-1592351999@www.skitteljacht.nl
SUMMARY:Sportdag !
DESCRIPTION:
URL:https://www.skitteljacht.nl/event/sportdag-2/
END:VEVENT
BEGIN:VEVENT
DTSTART;VALUE=DATE:20200610
DTEND;VALUE=DATE:20200611
DTSTAMP:20260420T142646
CREATED:20200114T124603Z
LAST-MODIFIED:20200114T124603Z
UID:9090-1591747200-1591833599@www.skitteljacht.nl
SUMMARY:Rapport Mee !
DESCRIPTION:
URL:https://www.skitteljacht.nl/event/rapport-mee-4/
END:VEVENT
BEGIN:VEVENT
DTSTART;VALUE=DATE:20200609
DTEND;VALUE=DATE:20200613
DTSTAMP:20260420T142646
CREATED:20200114T124523Z
LAST-MODIFIED:20200114T124523Z
UID:9088-1591660800-1592006399@www.skitteljacht.nl
SUMMARY:Avondvierdaagse !
DESCRIPTION:
URL:https://www.skitteljacht.nl/event/avondvierdaagse-2/
END:VEVENT
BEGIN:VEVENT
DTSTART;VALUE=DATE:20200601
DTEND;VALUE=DATE:20200602
DTSTAMP:20260420T142646
CREATED:20200114T124241Z
LAST-MODIFIED:20200114T124241Z
UID:9082-1590969600-1591055999@www.skitteljacht.nl
SUMMARY:2e Pinksterdag
DESCRIPTION:
URL:https://www.skitteljacht.nl/event/2e-pinksterdag-2/
END:VEVENT
BEGIN:VEVENT
DTSTART;VALUE=DATE:20200531
DTEND;VALUE=DATE:20200601
DTSTAMP:20260420T142646
CREATED:20200114T124410Z
LAST-MODIFIED:20200114T124410Z
UID:9086-1590883200-1590969599@www.skitteljacht.nl
SUMMARY:1e Pinksterdag
DESCRIPTION:
URL:https://www.skitteljacht.nl/event/1e-pinksterdag/
END:VEVENT
BEGIN:VEVENT
DTSTART;VALUE=DATE:20200522
DTEND;VALUE=DATE:20200523
DTSTAMP:20260420T142646
CREATED:20200114T123924Z
LAST-MODIFIED:20200114T123924Z
UID:9080-1590105600-1590191999@www.skitteljacht.nl
SUMMARY:Vrij
DESCRIPTION:
URL:https://www.skitteljacht.nl/event/vrij/
END:VEVENT
BEGIN:VEVENT
DTSTART;VALUE=DATE:20200521
DTEND;VALUE=DATE:20200522
DTSTAMP:20260420T142646
CREATED:20200114T123836Z
LAST-MODIFIED:20200114T123836Z
UID:9078-1590019200-1590105599@www.skitteljacht.nl
SUMMARY:Hemelvaartsdag
DESCRIPTION:
URL:https://www.skitteljacht.nl/event/hemelvaartsdag/
END:VEVENT
BEGIN:VEVENT
DTSTART;TZID=Europe/Amsterdam:20200514T090000
DTEND;TZID=Europe/Amsterdam:20200514T110000
DTSTAMP:20260420T142646
CREATED:20200114T123728Z
LAST-MODIFIED:20200114T123728Z
UID:9076-1589446800-1589454000@www.skitteljacht.nl
SUMMARY:Peuter inloop
DESCRIPTION:
URL:https://www.skitteljacht.nl/event/peuter-inloop-5/
END:VEVENT
END:VCALENDAR